BEGIN:VCALENDAR
VERSION:2.0
PRODID:-//Sterrenland - ECPv6.3.5//NONSGML v1.0//EN
CALSCALE:GREGORIAN
METHOD:PUBLISH
X-WR-CALNAME:Sterrenland
X-ORIGINAL-URL:https://www.sterrenland.com
X-WR-CALDESC:Evenementen voor Sterrenland
REFRESH-INTERVAL;VALUE=DURATION:PT1H
X-Robots-Tag:noindex
X-PUBLISHED-TTL:PT1H
BEGIN:VTIMEZONE
TZID:Europe/Amsterdam
BEGIN:DAYLIGHT
TZOFFSETFROM:+0100
TZOFFSETTO:+0200
TZNAME:CEST
DTSTART:20250330T010000
END:DAYLIGHT
BEGIN:STANDARD
TZOFFSETFROM:+0200
TZOFFSETTO:+0100
TZNAME:CET
DTSTART:20251026T010000
END:STANDARD
END:VTIMEZONE
BEGIN:VEVENT
DTSTART;TZID=Europe/Amsterdam:20250919T100000
DTEND;TZID=Europe/Amsterdam:20250919T120000
DTSTAMP:20260423T032830
CREATED:20250915T141934Z
LAST-MODIFIED:20250915T142718Z
UID:2934-1758276000-1758283200@www.sterrenland.com
SUMMARY:Tuin voor Ontmoeting en Inspiratie/ Tuin
DESCRIPTION:Op vrijdag is de tuin van Sterrenland open voor een kopje thee\, koffie met wat lekkers. Elkaar ontmoeten en inspireren in de tuin of in het Sterrencafé.  \n\n\n\nIedere vrijdag heeft een eigen focus: 1e vrijdag  van de maand Terrein\, 2e vrijdag Open Atelier\, 3e vrijdag Tuin\, 4e vrijdag Healing. Je kan steeds bekijken of je hier aan meedoet\, aan het werk gaat of liever op de tuin bent en geniet van de rijkdom van Sterrenland. Van 10 tot 12 uur. \n\n\n\nVandaag gaan we in de tuin aan de slag. Groenten\, bloemen\, kruiden krijgen de aandacht\, welkom om mee te doen. Werk samen met ervaren tuinders en zie hoe de groenten groeien. Geniet van alles wat groeit en bloeit en het buiten zijn. Met elkaar de handen uit de mouwen steken en de voeten op de grond. Zaaien\, planten\, wieden\, oogsten……en wat er verder te doen is\, licht en wat zwaarder werk. \n\n\n\nVoor wie dat wil kan ook tot 14.30u blijven. Wel eigen lunch meebrengen. Voor koffie en thee wordt gezorgd. \n\n\n\nJe kan je aanmelden als vaste vrijwilliger\, maar ook om zo nu en dan te helpen. Of gewoon een keertje proeven\, allemaal welkom. Meer info of aanmelden bij Tom: info@sterrenland.com of 0571 273212
URL:https://www.sterrenland.com/agenda/tuin-voor-ontmoeting-en-inspiratie-tuin-13
END:VEVENT
BEGIN:VEVENT
DTSTART;TZID=Europe/Amsterdam:20250927T140000
DTEND;TZID=Europe/Amsterdam:20250927T170000
DTSTAMP:20260423T032830
CREATED:20250915T154247Z
LAST-MODIFIED:20250915T154403Z
UID:2946-1758981600-1758992400@www.sterrenland.com
SUMMARY:Oogstfeest
DESCRIPTION:Welkom op het oogstfeest van Sterrenland!   \n\n\n\nOm 14.00u beginnen we met de opening\, waarin we de oogst vieren. Dankbaar voor alles wat de aarde ons gegeven heeft\, maar ook wat we met onze inspanningen als oogst mogen zien.  \n\n\n\nWe oogsten met elkaar op de tuin de pompoenen. \n\n\n\nVoor de aarde met alle uitdagingen die er zijn\, gaan we hierna creatief bezig om vorm te geven aan wat voor steentje wij bij willen dragen. \n\n\n\n Gezellig als je ook komt om de oogst van dit jaar te vieren. Wij zorgen voor wat lekkers ( wafels\, eigen baksels\, soep\, alles biologisch). Wees welkom om iets van jouw oogst te delen bv gedichtje\, liedje\, verhaal\, creatie etc\, zodat we met elkaar genieten van de rijkdom die er is. \n\n\n\nVuurtje\, wat lekkers\, pompoensoep en gezellig samenzijn! Graag van tevoren even opgeven.  info@sterrenland.com of 0571 273212 Kosten: €10\,- kinderen € 7\,50
URL:https://www.sterrenland.com/agenda/oogstfeest-4
END:VEVENT
END:VCALENDAR