BEGIN:VCALENDAR
VERSION:2.0
PRODID:-//Sterrenland - ECPv6.3.5//NONSGML v1.0//EN
CALSCALE:GREGORIAN
METHOD:PUBLISH
X-ORIGINAL-URL:https://www.sterrenland.com
X-WR-CALDESC:Evenementen voor Sterrenland
REFRESH-INTERVAL;VALUE=DURATION:PT1H
X-Robots-Tag:noindex
X-PUBLISHED-TTL:PT1H
BEGIN:VTIMEZONE
TZID:Europe/Amsterdam
BEGIN:DAYLIGHT
TZOFFSETFROM:+0100
TZOFFSETTO:+0200
TZNAME:CEST
DTSTART:20240331T010000
END:DAYLIGHT
BEGIN:STANDARD
TZOFFSETFROM:+0200
TZOFFSETTO:+0100
TZNAME:CET
DTSTART:20241027T010000
END:STANDARD
END:VTIMEZONE
BEGIN:VEVENT
DTSTART;TZID=Europe/Amsterdam:20241004T100000
DTEND;TZID=Europe/Amsterdam:20241004T143000
DTSTAMP:20260422T085144
CREATED:20240723T105612Z
LAST-MODIFIED:20240723T105613Z
UID:2829-1728036000-1728052200@www.sterrenland.com
SUMMARY:Tuin voor Ontmoeting en Inspiratie/ Meewerk Terreindag
DESCRIPTION:Op vrijdag is de tuin van Sterrenland open voor een kopje thee\, koffie met wat lekkers. Elkaar ontmoeten en inspireren in de tuin of het Sterrencafé. Ook worden er steeds laagdrempelige doe of creatieve activiteiten aangeboden. Van 10 tot 12 uur. \n\n\n\nOp elke eerste vrijdag van de maand komt de Terreingroep bij elkaar om het terrein van Sterrenland te onderhouden. Hagen snoeien\, Sterrenpad bijhouden\, klussen\, bijen vriendelijk landschap verzorgen\,voedselbos aanleggen etc. De handen uit de mouwen steken\, gezellig in een groep samenwerken. Doe mee en ga voldaan met oogst van het land weer naar huis. \n\n\n\nVandaag zijn er genoeg dingen te doen ter voorbereiding van het Oogstfeest morgen. \n\n\n\nWe werken op de Meewerk Terreindag van 10 tot half 3. Meer info en opgave: info@sterrenland.com of 0571 273212
URL:https://www.sterrenland.com/agenda/tuin-voor-ontmoeting-en-inspiratie-meewerk-terreindag-2
END:VEVENT
BEGIN:VEVENT
DTSTART;TZID=Europe/Amsterdam:20241005T140000
DTEND;TZID=Europe/Amsterdam:20241005T170000
DTSTAMP:20260422T085144
CREATED:20240527T172815Z
LAST-MODIFIED:20240527T172815Z
UID:2775-1728136800-1728147600@www.sterrenland.com
SUMMARY:Oogstfeest
DESCRIPTION:Van harte welkom op het oogstfeest. We beginnen om 14.00u met een leuke opening. het programma komt nog. Lekker buiten zijn en met elkaar de oogst vieren op de heerlijke tuin van Sterrenland. Welkom.
URL:https://www.sterrenland.com/agenda/oogstfeest-3
END:VEVENT
BEGIN:VEVENT
DTSTART;TZID=Europe/Amsterdam:20241011T100000
DTEND;TZID=Europe/Amsterdam:20241011T120000
DTSTAMP:20260422T085144
CREATED:20241008T171558Z
LAST-MODIFIED:20241008T171559Z
UID:2833-1728640800-1728648000@www.sterrenland.com
SUMMARY:Open atelier
DESCRIPTION:Op vrijdag is de tuin van Sterrenland open voor een kopje thee\, koffie met wat lekkers. Elkaar ontmoeten en inspireren in de tuin of in het Sterrencafé. Ook worden er steeds laagdrempelige doe of creatieve activiteiten aangeboden. \n\n\n\nVandaag is er weer een Open Atelier. Het bevalt zo goed\, dat we besloten hebben om elke tweede vrijdag van de maand dit aan te bieden!!!  \n\n\n\nDeze keer gaan we met verschillende kleuren schapenwol vilten. Zeker ook voor beginners. Met naaldvilten maken we paddenstoelen of ander herfsttafereel. Als je zelf nog restjes schapenwol hebt\, neem het dan mee.
URL:https://www.sterrenland.com/agenda/open-atelier-5
END:VEVENT
BEGIN:VEVENT
DTSTART;TZID=Europe/Amsterdam:20241018T100000
DTEND;TZID=Europe/Amsterdam:20241018T120000
DTSTAMP:20260422T085144
CREATED:20241008T172945Z
LAST-MODIFIED:20241008T172946Z
UID:2839-1729245600-1729252800@www.sterrenland.com
SUMMARY:Tuin voor Ontmoeting en Inspiratie/ Tuin
DESCRIPTION:Op vrijdag is de tuin van Sterrenland open voor een kopje thee\, koffie met wat lekkers. Elkaar ontmoeten en inspireren in de tuin of in het Sterrencafé. Ook worden er steeds laagdrempelige doe of creatieve activiteiten aangeboden. \n\n\n\nVandaag gaan we in de tuin aan de slag. Winterwortelen oogsten en de winteropslag klaar maken. Welkom om mee te doen. Doe mee met ervaren tuinders en zie hoe de groenten groeien. Geniet van het buiten zijn met de handen uit de mouwen en de voeten op de grond. Je kan je aanmelden als vaste vrijwilliger\, maar ook om zo nu en dan te helpen. Of gewoon een keertje meedoen\, van harte welkom. Meer info of aanmelden bij Tom: info@sterrenland.com of 0571 273212
URL:https://www.sterrenland.com/agenda/tuin-voor-ontmoeting-en-inspiratie-tuin-4
END:VEVENT
BEGIN:VEVENT
DTSTART;TZID=Europe/Amsterdam:20241025T100000
DTEND;TZID=Europe/Amsterdam:20241025T120000
DTSTAMP:20260422T085144
CREATED:20241008T173900Z
LAST-MODIFIED:20241008T173900Z
UID:2841-1729850400-1729857600@www.sterrenland.com
SUMMARY:Tuin voor Ontmoeting en Inspiratie/ DAO healing
DESCRIPTION:Ervaar de zachte maar sterke kracht van Dao healing. Jose Starmans neemt ons mee. Je neemt een ontspannen houding aan en door de verbinding met de Leegte ( DAO)  kan de heling plaats vinden.
URL:https://www.sterrenland.com/agenda/tuin-voor-ontmoeting-en-inspiratie-dao-healing
END:VEVENT
END:VCALENDAR