BEGIN:VCALENDAR
VERSION:2.0
PRODID:-//Sterrenland - ECPv6.3.5//NONSGML v1.0//EN
CALSCALE:GREGORIAN
METHOD:PUBLISH
X-ORIGINAL-URL:https://www.sterrenland.com
X-WR-CALDESC:Evenementen voor Sterrenland
REFRESH-INTERVAL;VALUE=DURATION:PT1H
X-Robots-Tag:noindex
X-PUBLISHED-TTL:PT1H
BEGIN:VTIMEZONE
TZID:Europe/Amsterdam
BEGIN:DAYLIGHT
TZOFFSETFROM:+0100
TZOFFSETTO:+0200
TZNAME:CEST
DTSTART:20240331T010000
END:DAYLIGHT
BEGIN:STANDARD
TZOFFSETFROM:+0200
TZOFFSETTO:+0100
TZNAME:CET
DTSTART:20241027T010000
END:STANDARD
END:VTIMEZONE
BEGIN:VEVENT
DTSTART;TZID=Europe/Amsterdam:20240802T100000
DTEND;TZID=Europe/Amsterdam:20240802T143000
DTSTAMP:20260422T071550
CREATED:20240722T172818Z
LAST-MODIFIED:20240722T172819Z
UID:2793-1722592800-1722609000@www.sterrenland.com
SUMMARY:Tuin voor Ontmoeting en Inspiratie/ Meewerk Terreindag
DESCRIPTION:Op vrijdag is de tuin van Sterrenland open voor een kopje thee\, koffie met wat lekkers. Elkaar ontmoeten en inspireren in de tuin of het Sterrencafé. Ook worden er steeds laagdrempelige doe of creatieve activiteiten aangeboden. Van 10 tot 12 uur. \n\n\n\nOp elke eerste vrijdag van de maand komt de Terreingroep bij elkaar om het terrein van Sterrenland te onderhouden. Hagen snoeien\, Sterrenpad bijhouden\, klussen\, bijen vriendelijk landschap verzorgen\,voedselbos aanleggen etc. De handen uit de mouwen steken\, gezellig in een groep samenwerken. Doe mee en ga voldaan met oogst van het land weer naar huis. \n\n\n\nWe werken op de Meewerk Terreindag van 10 tot half 3. Meer info en opgave: info@sterrenland.com of 0571 273212
URL:https://www.sterrenland.com/agenda/tuin-voor-ontmoeting-en-inspiratie-meewerk-terreindag
END:VEVENT
BEGIN:VEVENT
DTSTART;TZID=Europe/Amsterdam:20240809T100000
DTEND;TZID=Europe/Amsterdam:20240809T120000
DTSTAMP:20260422T071550
CREATED:20240722T173235Z
LAST-MODIFIED:20240722T173235Z
UID:2795-1723197600-1723204800@www.sterrenland.com
SUMMARY:Tuin voor Ontmoeting en Inspiratie/ Open atelier
DESCRIPTION:Op vrijdag is de tuin van Sterrenland open voor een kopje thee\, koffie met wat lekkers. Elkaar ontmoeten en inspireren in de tuin of in het Sterrencafé. Ook worden er steeds laagdrempelige doe of creatieve activiteiten aangeboden. \n\n\n\nVandaag is er weer een Open Atelier. Het bevalt zo goed\, dat we besloten hebben om elke tweede vrijdag van de maand dit aan te bieden!!! Breng je creatieve materialen mee en kijk wat je inspiratie is om te maken. Bij lekker weer gaan we buiten schilderen of tekenen. Als je een duwtje nodig hebt of even een tip dan is Iedje daar om je op weg te helpen. Gezellig met elkaar creatief bezig zijn. Welkom om mee te doen.
URL:https://www.sterrenland.com/agenda/tuin-voor-ontmoeting-en-inspiratie-open-atelier-2
END:VEVENT
BEGIN:VEVENT
DTSTART;TZID=Europe/Amsterdam:20240816T100000
DTEND;TZID=Europe/Amsterdam:20240816T120000
DTSTAMP:20260422T071550
CREATED:20240722T173723Z
LAST-MODIFIED:20240722T173831Z
UID:2797-1723802400-1723809600@www.sterrenland.com
SUMMARY:Tuin voor Ontmoeting en Inspiratie/ Gesprek over voeding met Jet
DESCRIPTION:Op vrijdag is de tuin van Sterrenland open voor een kopje thee\, koffie met wat lekkers. Elkaar ontmoeten en inspireren in de tuin of in het Sterrencafé. Ook worden er steeds laagdrempelige doe of creatieve activiteiten aangeboden. \n\n\n\nVolg je een dieet of kies je voor een veganistische leefstijl? Wat zijn jouw gedachten over voeding? Jet vertelt over haar eigen ervaringen en ontdekkingen en neemt ons mee om dat ook te doen.
URL:https://www.sterrenland.com/agenda/tuin-voor-ontmoeting-en-inspiratie-gesprek-over-voeding-met-jet
END:VEVENT
BEGIN:VEVENT
DTSTART;TZID=Europe/Amsterdam:20240817T100000
DTEND;TZID=Europe/Amsterdam:20240817T143000
DTSTAMP:20260422T071550
CREATED:20240722T174933Z
LAST-MODIFIED:20240722T174933Z
UID:2800-1723888800-1723905000@www.sterrenland.com
SUMMARY:Open Zomer atelier
DESCRIPTION:Een dag om met elkaar bezig te gaan met plezier in tekenen en schilderen. Genieten van creatief bezig zijn en ontspannen. Bij goed weer werken we buiten in de heerlijke tuin van Sterrenland. Je krijgt de mogelijkheid om verschillende technieken en materialen te ontdekken.  \n\n\n\nWij zorgen voor koffie/thee en soep\, wel graag zelf je lunch meebrengen. kosten vrijwillige bijdrage ( richtbedrag € 25\,-)  \n\n\n\nVoor meer info en aanmelden: Iedje of Toos toos.rubbens@sterrenland.com of 0571 273212
URL:https://www.sterrenland.com/agenda/open-zomer-atelier
END:VEVENT
BEGIN:VEVENT
DTSTART;TZID=Europe/Amsterdam:20240823T100000
DTEND;TZID=Europe/Amsterdam:20240823T120000
DTSTAMP:20260422T071550
CREATED:20240722T175747Z
LAST-MODIFIED:20240722T175748Z
UID:2802-1724407200-1724414400@www.sterrenland.com
SUMMARY:Tuin voor Ontmoeting en Inspiratie/ Tuin
DESCRIPTION:Op vrijdag is de tuin van Sterrenland open voor een kopje thee\, koffie met wat lekkers. Elkaar ontmoeten en inspireren in de tuin of in het Sterrencafé. Ook worden er steeds laagdrempelige doe of creatieve activiteiten aangeboden. \n\n\n\nVandaag gaan we in de tuin aan de slag. Welkom om mee te doen. Doe mee met ervaren tuinders en zie hoe de groenten groeien. Geniet van het buiten zijn met de handen uit de mouwen en de voeten op de grond. Je kan je aanmelden als vaste vrijwilliger\, maar ook om zo nu en dan te helpen en te genieten van de tuin. Meer info of aanmelden bij Tom: info@sterrenland.com
URL:https://www.sterrenland.com/agenda/tuin-voor-ontmoeting-en-inspiratie-tuin-2
END:VEVENT
BEGIN:VEVENT
DTSTART;TZID=Europe/Amsterdam:20240830T100000
DTEND;TZID=Europe/Amsterdam:20240830T120000
DTSTAMP:20260422T071550
CREATED:20240722T180507Z
LAST-MODIFIED:20240722T180630Z
UID:2804-1725012000-1725019200@www.sterrenland.com
SUMMARY:Tuin voor Ontmoeting en Inspiratie/ Introductie les yoga met Jose Starmans
DESCRIPTION:Op vrijdag is de tuin van Sterrenland open voor een kopje thee\, koffie met wat lekkers. Elkaar ontmoeten en inspireren in de tuin of in het Sterrencafé. Ook worden er steeds laagdrempelige doe of creatieve activiteiten aangeboden. \n\n\n\nJose geeft vandaag de mogelijkheid kennis te maken met Dru yoga. Zij geeft op Sterrenland elke twee weken op dinsdagavond een intensieve Dru yogales. Meer info: www. praktijkcare.nl \n\n\n\nE-mail: jose@praktijkcare.nl \n\n\n\nTelefoon: 06-15040631
URL:https://www.sterrenland.com/agenda/tuin-voor-ontmoeting-en-inspiratie-introductie-les-yoga-met-jose-starmans
END:VEVENT
BEGIN:VEVENT
DTSTART;TZID=Europe/Amsterdam:20240831T100000
DTEND;TZID=Europe/Amsterdam:20240831T143000
DTSTAMP:20260422T071550
CREATED:20240722T181925Z
LAST-MODIFIED:20240723T103338Z
UID:2811-1725098400-1725114600@www.sterrenland.com
SUMMARY:Meewerk Terreindag
DESCRIPTION:Zo nu en dan gaan we ook op zaterdag aan het werk om het terrein van Sterrenland te onderhouden en mooi te maken. Het terrein van Sterrenland is een oase in het landschap. Vandaag kan je weer mee werken en genieten van deze mooie plek. Hagen snoeien\, Sterrenpad bijhouden\, klussen\, bijen vriendelijk landschap verzorgen\,voedselbos aanleggen etc. De handen uit de mouwen steken\, gezellig in een groep samenwerken. Doe mee en ga voldaan met oogst van het land weer naar huis. \n\n\n\nWe werken op de Meewerk Terreindag van 10 tot half 3. Wij zorgen voor koffie/thee en soep\, wel graag zelf je lunch meenemen. Meer info en opgave: info@sterrenland.com of 0571 273212
URL:https://www.sterrenland.com/agenda/meewerk-terreindag
END:VEVENT
END:VCALENDAR