BEGIN:VCALENDAR
VERSION:2.0
PRODID:-//Sterrenland - ECPv6.3.5//NONSGML v1.0//EN
CALSCALE:GREGORIAN
METHOD:PUBLISH
X-WR-CALNAME:Sterrenland
X-ORIGINAL-URL:https://www.sterrenland.com
X-WR-CALDESC:Evenementen voor Sterrenland
REFRESH-INTERVAL;VALUE=DURATION:PT1H
X-Robots-Tag:noindex
X-PUBLISHED-TTL:PT1H
BEGIN:VTIMEZONE
TZID:Europe/Amsterdam
BEGIN:DAYLIGHT
TZOFFSETFROM:+0100
TZOFFSETTO:+0200
TZNAME:CEST
DTSTART:20240331T010000
END:DAYLIGHT
BEGIN:STANDARD
TZOFFSETFROM:+0200
TZOFFSETTO:+0100
TZNAME:CET
DTSTART:20241027T010000
END:STANDARD
END:VTIMEZONE
BEGIN:VEVENT
DTSTART;TZID=Europe/Amsterdam:20240605T200000
DTEND;TZID=Europe/Amsterdam:20240605T220000
DTSTAMP:20260422T023729
CREATED:20240418T104822Z
LAST-MODIFIED:20240418T104823Z
UID:2742-1717617600-1717624800@www.sterrenland.com
SUMMARY:Snuffelen aan sjamanisme
DESCRIPTION:In de Tipi Herberg op Morgenland kun je tijdens 4 woensdagavonden kennismaken met het Sjamanisme. \n\n\n\nWat is het en wat kan het voor jou betekenen?  \n\n\n\nJe maakt o.a. kennis met met sjamanistische trancereizen\, het medicijnwiel en je ontmoet jouw krachtdier. \n\n\n\nMeer info en aanmelden: www.retribe.nl/ceremonie\, stefaniekraanen@gmail.com. Je bent van harte welkom! 
URL:https://www.sterrenland.com/agenda/snuffelen-aan-sjamanisme-3
END:VEVENT
BEGIN:VEVENT
DTSTART;TZID=Europe/Amsterdam:20240607T100000
DTEND;TZID=Europe/Amsterdam:20240607T120000
DTSTAMP:20260422T023729
CREATED:20240422T180314Z
LAST-MODIFIED:20240422T180315Z
UID:2759-1717754400-1717761600@www.sterrenland.com
SUMMARY:Tuin voor Ontmoeting en Inspiratie
DESCRIPTION:Op vrijdag is de tuin van Sterrenland open voor een kopje thee\, koffie met wat lekkers. Elkaar ontmoeten en inspireren in de tuin of het Sterrencafé. Ook worden er steeds laagdrempelige doe of creatieve activiteiten aangeboden.  \n\n\n\nOp elke eerste vrijdag van de maand komt de Terreingroep bij elkaar om het terrein van Sterrenland te onderhouden. Hagen snoeien\, Sterrenpad bijhouden\, klussen\, voedselbos aanleggen etc. De handen uit de mouwen steken\, gezellig in een groep samenwerken \n\n\n\nDeze keer gaan we maaien en verfraaien. Van harte welkom.  We werken van 10 tot half 3. Koffie en thee en wat lekkers. Meer info en opgave: info@sterrenland.com of 0571 273212
URL:https://www.sterrenland.com/agenda/tuin-voor-ontmoeting-en-inspiratie
END:VEVENT
BEGIN:VEVENT
DTSTART;TZID=Europe/Amsterdam:20240614T100000
DTEND;TZID=Europe/Amsterdam:20240614T120000
DTSTAMP:20260422T023729
CREATED:20240429T153921Z
LAST-MODIFIED:20240429T153921Z
UID:2766-1718359200-1718366400@www.sterrenland.com
SUMMARY:Open Atelier
DESCRIPTION:Op vrijdag is de tuin van Sterrenland open voor een kopje thee\, koffie met wat lekkers. Elkaar ontmoeten en inspireren in de tuin of het Sterrencafé. Ook worden er steeds laagdrempelige doe of creatieve activiteiten aangeboden. \n\n\n\nVandaag is er weer een Open Atelier. Het bevalt zo goed\, dat we besloten hebben om elke tweede vrijdag van de maand dit aan te bieden!!! Breng je creatieve materialen mee en kijk wat je inspiratie is om te maken. Bij lekker weer gaan we buiten schilderen of tekenen. Als je een duwtje nodig hebt of even een tip dan is Iedje daar om je op weg te helpen. Gezellig met elkaar creatief bezig zijn. Welkom om mee te doen.
URL:https://www.sterrenland.com/agenda/open-atelier-4
END:VEVENT
BEGIN:VEVENT
DTSTART;TZID=Europe/Amsterdam:20240619T200000
DTEND;TZID=Europe/Amsterdam:20240619T220000
DTSTAMP:20260422T023729
CREATED:20240418T104958Z
LAST-MODIFIED:20240418T104959Z
UID:2744-1718827200-1718834400@www.sterrenland.com
SUMMARY:Snuffelen aan sjamanisme
DESCRIPTION:In de Tipi Herberg op Morgenland kun je tijdens 4 woensdagavonden kennismaken met het Sjamanisme. \n\n\n\nWat is het en wat kan het voor jou betekenen?  \n\n\n\nJe maakt o.a. kennis met met sjamanistische trancereizen\, het medicijnwiel en je ontmoet jouw krachtdier. \n\n\n\nMeer info en aanmelden: www.retribe.nl/ceremonie\, stefaniekraanen@gmail.com. Je bent van harte welkom! 
URL:https://www.sterrenland.com/agenda/snuffelen-aan-sjamanisme-4
END:VEVENT
BEGIN:VEVENT
DTSTART;TZID=Europe/Amsterdam:20240621T100000
DTEND;TZID=Europe/Amsterdam:20240621T120000
DTSTAMP:20260422T023729
CREATED:20240430T102727Z
LAST-MODIFIED:20240610T095418Z
UID:2772-1718964000-1718971200@www.sterrenland.com
SUMMARY:Vier de Zomer
DESCRIPTION:In de Tuin voor Ontmoeting en Inspiratie vieren we de zomer. Genieten van de Tuin\, zing zing zing. Marieke Maas Bink neemt haar gitaar en leuke liedjes om te zingen mee. We zorgen ook voor wat lekkers te eten en te drinken. Van harte welkom\, we beginnen om 10.00u. Vrijwillige bijdrage.
URL:https://www.sterrenland.com/agenda/vier-de-zomer
END:VEVENT
BEGIN:VEVENT
DTSTART;TZID=Europe/Amsterdam:20240622T100000
DTEND;TZID=Europe/Amsterdam:20240622T143000
DTSTAMP:20260422T023729
CREATED:20240429T192358Z
LAST-MODIFIED:20240429T192358Z
UID:2770-1719050400-1719066600@www.sterrenland.com
SUMMARY:Meewerk Terreingroep
DESCRIPTION:Ook zaterdag  22 juni \n\n\n\nEr is genoeg te doen en omdat sommigen van jullie hebben aangegeven niet op vrijdag te kunnen\, willen we ook vaker op zaterdag  dus nu op 22 juni  een extra terrein-dag houden. Deze dagen zijn  ook van 10u tot 14.30u. \n\n\n\nWat is er te doen? \n\n\n\nEr is  fysiek licht werk en wat zwaarder werk\, we kijken met elkaar wie wat wil of kan doen. \n\n\n\nEr is veel te maaien. Het Sterrenpad te verbeteren\, het terras renoveren etc.
URL:https://www.sterrenland.com/agenda/meewerk-terreingroep
END:VEVENT
BEGIN:VEVENT
DTSTART;TZID=Europe/Amsterdam:20240628T100000
DTEND;TZID=Europe/Amsterdam:20240628T120000
DTSTAMP:20260422T023729
CREATED:20240610T095814Z
LAST-MODIFIED:20240610T095815Z
UID:2783-1719568800-1719576000@www.sterrenland.com
SUMMARY:Tuin voor Ontmoeting en Inspiratie/ Tuin
DESCRIPTION:Op vrijdag is de tuin van Sterrenland open voor een kopje thee\, koffie met wat lekkers. Elkaar ontmoeten en inspireren in de tuin of het Sterrencafé. Ook worden er steeds laagdrempelige doe of creatieve activiteiten aangeboden. \n\n\n\nVandaag gaat de tuingroep weer aan de slag. Welkom om mee te doen. Als vaste vrijwilliger\, maar ook om zo nu en dan te helpen en te genieten van het buiten zijn. Meer info of aanmelden bij Tom: info@sterrenland.com
URL:https://www.sterrenland.com/agenda/tuin-voor-ontmoeting-en-inspiratie-tuin
END:VEVENT
END:VCALENDAR