BEGIN:VCALENDAR
VERSION:2.0
PRODID:-//Sterrenland - ECPv6.3.5//NONSGML v1.0//EN
CALSCALE:GREGORIAN
METHOD:PUBLISH
X-ORIGINAL-URL:https://www.sterrenland.com
X-WR-CALDESC:Evenementen voor Sterrenland
REFRESH-INTERVAL;VALUE=DURATION:PT1H
X-Robots-Tag:noindex
X-PUBLISHED-TTL:PT1H
BEGIN:VTIMEZONE
TZID:Europe/Amsterdam
BEGIN:DAYLIGHT
TZOFFSETFROM:+0100
TZOFFSETTO:+0200
TZNAME:CEST
DTSTART:20240331T010000
END:DAYLIGHT
BEGIN:STANDARD
TZOFFSETFROM:+0200
TZOFFSETTO:+0100
TZNAME:CET
DTSTART:20241027T010000
END:STANDARD
END:VTIMEZONE
BEGIN:VEVENT
DTSTART;TZID=Europe/Amsterdam:20240405T100000
DTEND;TZID=Europe/Amsterdam:20240405T143000
DTSTAMP:20260422T003929
CREATED:20240317T141437Z
LAST-MODIFIED:20240317T141438Z
UID:2700-1712311200-1712327400@www.sterrenland.com
SUMMARY:Tuin voor Ontmoeting en Inspiratie/ terreingroep
DESCRIPTION:Op vrijdag is de tuin van Sterrenland open voor een kopje thee\, koffie met wat lekkers. Elkaar ontmoeten en inspireren in de tuin of het Sterrencafé. Ook worden er steeds laagdrempelige doe of creatieve activiteiten aangeboden.  \n\n\n\nOp elke eerste vrijdag van de maand komt de Terreingroep bij elkaar om het terrein van Sterrenland te onderhouden. Hagen snoeien\, Sterrenpad bijhouden\, klussen\, voedselbos aanleggen etc. De handen uit de mouwen steken\, gezellig in een groep samenwerken \n\n\n\nDeze keer gaan we de kindertuintjes voor de Vrije School vormgeven. De borden aan de weg verbeteren en de kruidentuin bewerken. We werken van 10 tot half 3. Koffie en thee en wat lekkers. Meer info en opgave: info@sterrenland.com of 0571 273212
URL:https://www.sterrenland.com/agenda/tuin-voor-ontmoeting-en-inspiratie-terreingroep
END:VEVENT
BEGIN:VEVENT
DTSTART;TZID=Europe/Amsterdam:20240406T140000
DTEND;TZID=Europe/Amsterdam:20240406T170000
DTSTAMP:20260422T003929
CREATED:20240108T192544Z
LAST-MODIFIED:20240317T135702Z
UID:2643-1712412000-1712422800@www.sterrenland.com
SUMMARY:Lentefeest
DESCRIPTION:Hartelijk welkom op het Lentefeest! We beginnen om 14.00u met de opening om de lente te vieren.   We gaan uitjes poten\, bomen planten op de Tuin voor Ontmoeting en Inspiratie\, creatief bezig met aboriginal art in het atelier ( voormalige winkel)\, zingen en lekker samen buiten zijn. Welkom om te genieten en andere sterren te ontmoeten! Graag van tevoren opgeven info@sterrenland.com of 0571 273212 kosten volwassenen € 10\,- kinderen € 7\,50
URL:https://www.sterrenland.com/agenda/lentefeest-3
END:VEVENT
BEGIN:VEVENT
DTSTART;TZID=Europe/Amsterdam:20240412T100000
DTEND;TZID=Europe/Amsterdam:20240412T120000
DTSTAMP:20260422T003929
CREATED:20240318T183319Z
LAST-MODIFIED:20240318T183658Z
UID:2706-1712916000-1712923200@www.sterrenland.com
SUMMARY:Open atelier
DESCRIPTION:Op vrijdag is de tuin van Sterrenland open voor een kopje thee\, koffie met wat lekkers. Elkaar ontmoeten en inspireren in de tuin of het Sterrencafé. Ook worden er steeds laagdrempelige doe of creatieve activiteiten aangeboden. \n\n\n\nVandaag is er in de voormalige winkel een Open Atelier. Breng je creatieve materialen mee en kijk wat je inspiratie is om te maken. Als je een duwtje nodig hebt of even een tip dan is Iedje daar om je op weg te helpen. Gezellig met elkaar creatief bezig zijn. Welkom om mee te doen.
URL:https://www.sterrenland.com/agenda/open-atelier-2
END:VEVENT
BEGIN:VEVENT
DTSTART;TZID=Europe/Amsterdam:20240419T100000
DTEND;TZID=Europe/Amsterdam:20240419T120000
DTSTAMP:20260422T003929
CREATED:20240317T142509Z
LAST-MODIFIED:20240317T142509Z
UID:2704-1713520800-1713528000@www.sterrenland.com
SUMMARY:Tuin voor Ontmoeting en Inspiratie/ Tuingroep
DESCRIPTION:Op vrijdag is de tuin van Sterrenland open voor een kopje thee\, koffie met wat lekkers. Elkaar ontmoeten en inspireren in de tuin of het Sterrencafé. Ook worden er steeds laagdrempelige doe of creatieve activiteiten aangeboden.   Vandaag gaat de tuingroep weer aan de slag. Welkom om mee te doen. Als vaste vrijwilliger\, maar ook om zo nu en dan te helpen en te genieten van het buiten zijn. Meer info of aanmelden bij Tom: info@sterrenland.com
URL:https://www.sterrenland.com/agenda/tuin-voor-ontmoeting-en-inspiratie-tuingroep-3
END:VEVENT
BEGIN:VEVENT
DTSTART;TZID=Europe/Amsterdam:20240422T100000
DTEND;TZID=Europe/Amsterdam:20240422T153000
DTSTAMP:20260422T003929
CREATED:20240318T184143Z
LAST-MODIFIED:20240418T105443Z
UID:2711-1713780000-1713799800@www.sterrenland.com
SUMMARY:Dag van de Aarde
DESCRIPTION:We vieren de Dag van de Aarde ook op Sterrenland. Natuurmandala leggen en healing cirkel rond het vuur. Programma: \n\n\n\n\nvan 10.00-12.00u natuurmandala leggen. breng bloempjes\, takjes\, vruchten mee voor een mooi geheel\n\n\n\nvan 12.00u-13.30u potluck lunch\, neem wat te eten mee om te delen\n\n\n\nvan 13.30-15.30 Healing cirkel\, met muziek\, klanken\, delen\, zingen\n\n\n\nAls je verbondenheid zoekt en mee wil vieren dan graag even van tevoren opgeven bij Toos of Bianca toos.rubbens@sterrenland.com of  bianca@hetiseral.nl  \n\n\n\n\nDeze dag wordt internationaal gevierd en nu ook op Sterrenland https://www.dagvandeaarde.nl/dag-van-de-aarde/ \n\n\n\nIn samenwerking met Bianca en Menno van Het is er al. tel: 06 24383726mail: bianca@hetiseral.nlweb: www.hetiseral.nl \n\n\n\nKosten: bijdrage aan koffie/ thee. Gebruik van de plek\, hout voor het vuur etc richtbedrag minimaal € 25\,-
URL:https://www.sterrenland.com/agenda/dag-van-de-aarde
END:VEVENT
BEGIN:VEVENT
DTSTART;TZID=Europe/Amsterdam:20240424T200000
DTEND;TZID=Europe/Amsterdam:20240424T220000
DTSTAMP:20260422T003929
CREATED:20240418T104448Z
LAST-MODIFIED:20240418T104449Z
UID:2738-1713988800-1713996000@www.sterrenland.com
SUMMARY:Snuffelen aan sjamanisme
DESCRIPTION:In de Tipi Herberg op Morgenland kun je tijdens 4 woensdagavonden kennismaken met het Sjamanisme. \n\n\n\nWat is het en wat kan het voor jou betekenen?  \n\n\n\nJe maakt o.a. kennis met met sjamanistische trancereizen\, het medicijnwiel en je ontmoet jouw krachtdier. \n\n\n\nMeer info en aanmelden: www.retribe.nl/ceremonie\, stefaniekraanen@gmail.com. Je bent van harte welkom! 
URL:https://www.sterrenland.com/agenda/snuffelen-aan-sjamanisme
END:VEVENT
END:VCALENDAR