BEGIN:VCALENDAR
VERSION:2.0
PRODID:-//Sterrenland - ECPv6.3.5//NONSGML v1.0//EN
CALSCALE:GREGORIAN
METHOD:PUBLISH
X-WR-CALNAME:Sterrenland
X-ORIGINAL-URL:https://www.sterrenland.com
X-WR-CALDESC:Evenementen voor Sterrenland
REFRESH-INTERVAL;VALUE=DURATION:PT1H
X-Robots-Tag:noindex
X-PUBLISHED-TTL:PT1H
BEGIN:VTIMEZONE
TZID:Europe/Amsterdam
BEGIN:DAYLIGHT
TZOFFSETFROM:+0100
TZOFFSETTO:+0200
TZNAME:CEST
DTSTART:20240331T010000
END:DAYLIGHT
BEGIN:STANDARD
TZOFFSETFROM:+0200
TZOFFSETTO:+0100
TZNAME:CET
DTSTART:20241027T010000
END:STANDARD
END:VTIMEZONE
BEGIN:VEVENT
DTSTART;TZID=Europe/Amsterdam:20240301T100000
DTEND;TZID=Europe/Amsterdam:20240301T120000
DTSTAMP:20260421T214439
CREATED:20231116T110358Z
LAST-MODIFIED:20240209T175230Z
UID:2619-1709287200-1709294400@www.sterrenland.com
SUMMARY:Open Tuin voor Ontmoeting en Inspiratie-Terreingroep
DESCRIPTION:Op vrijdag is de tuin van Sterrenland open voor een kopje thee\, koffie met wat lekkers. Elkaar ontmoeten en inspireren in de tuin of het Sterrencafé. Ook worden er steeds laagdrempelige doe of creatieve activiteiten aangeboden.  \n\n\n\nOp elke eerste vrijdag van de maand komt de Terreingroep bij elkaar om het terrein van Sterrenland te onderhouden. Hagen snoeien\, Sterrenpad bijhouden\, klussen\, voedselbos aanleggen etc. De handen uit de mouwen steken\, gezellig in een groep samenwerken \n\n\n\nDeze keer gaan we de Sterrentuin en kindertuintjes voor de Vrije School vormgeven en de tunnelbogen opruimen. We werken van half 10 tot 2 uur. Koffie\, thee en heerlijke soep. Meer info en opgave: info@sterrenland.com of 0571 273212
URL:https://www.sterrenland.com/agenda/open-tuin-voor-ontmoeting-en-inspiratie-terreingroep
END:VEVENT
BEGIN:VEVENT
DTSTART;TZID=Europe/Amsterdam:20240306T093000
DTEND;TZID=Europe/Amsterdam:20240306T120000
DTSTAMP:20260421T214439
CREATED:20240209T181557Z
LAST-MODIFIED:20240209T181557Z
UID:2665-1709717400-1709726400@www.sterrenland.com
SUMMARY:Do-In yoga met Monique
DESCRIPTION:Do-In yoga is geschikt voor iedereen die graag energiek en gezond wil blijven. Do-In is een ontspannen bewegingsvorm met eenvoudige oefeningen zonder dat je ingewikkelde houdingen hoeft aan te nemen. Het gaat bij Do-In yoga om bewust en met aandacht te bewegen met zorg voor jezelf. Info: Monique Collee www.collee.eu Elke woensdagochtend 2 lestijden 9.30-10.30 en 11.00-12.00u
URL:https://www.sterrenland.com/agenda/do-in-yoga-met-monique-15
END:VEVENT
BEGIN:VEVENT
DTSTART;TZID=Europe/Amsterdam:20240308T100000
DTEND;TZID=Europe/Amsterdam:20240308T120000
DTSTAMP:20260421T214439
CREATED:20240209T180036Z
LAST-MODIFIED:20240209T180036Z
UID:2659-1709892000-1709899200@www.sterrenland.com
SUMMARY:Tuin voor Ontmoeting en Inspiratie/Tuingroep
DESCRIPTION:Op vrijdag is de tuin van Sterrenland open voor een kopje thee\, koffie met wat lekkers. Elkaar ontmoeten en inspireren in de tuin of het Sterrencafé. Ook worden er steeds laagdrempelige doe of creatieve activiteiten aangeboden.    Vandaag gaat de tuingroep weer aan de slag. Welkom om mee te doen. Als vaste vrijwilliger\, maar ook om zo nu en dan te helpen en te genieten van het buiten zijn. Meer info of aanmelden bij Tom: info@sterrenland.com
URL:https://www.sterrenland.com/agenda/tuin-voor-ontmoeting-en-inspiratie-tuingroep
END:VEVENT
BEGIN:VEVENT
DTSTART;TZID=Europe/Amsterdam:20240315T100000
DTEND;TZID=Europe/Amsterdam:20240315T120000
DTSTAMP:20260421T214439
CREATED:20240209T180829Z
LAST-MODIFIED:20240209T180830Z
UID:2661-1710496800-1710504000@www.sterrenland.com
SUMMARY:Open Atelier
DESCRIPTION:Op vrijdag is de tuin van Sterrenland open voor een kopje thee\, koffie met wat lekkers. Elkaar ontmoeten en inspireren in de tuin of het Sterrencafé. Ook worden er steeds laagdrempelige doe of creatieve activiteiten aangeboden.    Vandaag is er in de voormalige winkel een Open Atelier. Breng je creatieve materialen mee en kijk wat je inspiratie is om te maken. Als je een duwtje nodig hebt of even een tip dan is Iedje daar om je op weg te helpen. Gezellig met elkaar creatief bezig zijn. Welkom om mee te doen.
URL:https://www.sterrenland.com/agenda/open-atelier
END:VEVENT
BEGIN:VEVENT
DTSTART;TZID=Europe/Amsterdam:20240322T100000
DTEND;TZID=Europe/Amsterdam:20240322T120000
DTSTAMP:20260421T214439
CREATED:20240317T140751Z
LAST-MODIFIED:20240317T140751Z
UID:2698-1711101600-1711108800@www.sterrenland.com
SUMMARY:Tuin voor Ontmoeting en Inspiratie/ Tuingroep
DESCRIPTION:Op vrijdag is de tuin van Sterrenland open voor een kopje thee\, koffie met wat lekkers. Elkaar ontmoeten en inspireren in de tuin of het Sterrencafé. Ook worden er steeds laagdrempelige doe of creatieve activiteiten aangeboden. \n\n\n\nVandaag gaat de tuingroep weer aan de slag. Welkom om mee te doen. Als vaste vrijwilliger\, maar ook om zo nu en dan te helpen en te genieten van het buiten zijn. Meer info of aanmelden bij Tom: info@sterrenland.com
URL:https://www.sterrenland.com/agenda/tuin-voor-ontmoeting-en-inspiratie-tuingroep-2
END:VEVENT
BEGIN:VEVENT
DTSTART;TZID=Europe/Amsterdam:20240327T093000
DTEND;TZID=Europe/Amsterdam:20240327T120000
DTSTAMP:20260421T214439
CREATED:20240317T135923Z
LAST-MODIFIED:20240317T135924Z
UID:2694-1711531800-1711540800@www.sterrenland.com
SUMMARY:Do-in yoga met Monique
DESCRIPTION:Do-In yoga is geschikt voor iedereen die graag energiek en gezond wil blijven. Do-In is een ontspannen bewegingsvorm met eenvoudige oefeningen zonder dat je ingewikkelde houdingen hoeft aan te nemen. Het gaat bij Do-In yoga om bewust en met aandacht te bewegen met zorg voor jezelf. Info: Monique Collee www.collee.eu Elke woensdagochtend 2 lestijden 9.30-10.30 en 11.00-12.00u
URL:https://www.sterrenland.com/agenda/do-in-yoga-met-monique-16
END:VEVENT
BEGIN:VEVENT
DTSTART;TZID=Europe/Amsterdam:20240329T100000
DTEND;TZID=Europe/Amsterdam:20240329T120000
DTSTAMP:20260421T214439
CREATED:20240317T141946Z
LAST-MODIFIED:20240317T141947Z
UID:2702-1711706400-1711713600@www.sterrenland.com
SUMMARY:Pesto maken
DESCRIPTION:Op vrijdag is de tuin van Sterrenland open voor een kopje thee\, koffie met wat lekkers. Elkaar ontmoeten en inspireren in de tuin of het Sterrencafé. Ook worden er steeds laagdrempelige doe of creatieve activiteiten aangeboden.  \n\n\n\nVandaag gaan we pesto maken van voorjaarskruiden. Zevenblad staat er volop. Vrijwillige bijdrage aan de kosten gevraagd. Materialen en ingredienten zijn aanwezig. \n\n\n\nMeer info en opgave: info@sterrenland.com of  toos.rubbens@sterrenland.com of 0571 273212
URL:https://www.sterrenland.com/agenda/pesto-maken
END:VEVENT
END:VCALENDAR