BEGIN:VCALENDAR
VERSION:2.0
PRODID:-//Sterrenland - ECPv6.3.5//NONSGML v1.0//EN
CALSCALE:GREGORIAN
METHOD:PUBLISH
X-ORIGINAL-URL:https://www.sterrenland.com
X-WR-CALDESC:Evenementen voor Sterrenland
REFRESH-INTERVAL;VALUE=DURATION:PT1H
X-Robots-Tag:noindex
X-PUBLISHED-TTL:PT1H
BEGIN:VTIMEZONE
TZID:Europe/Amsterdam
BEGIN:DAYLIGHT
TZOFFSETFROM:+0100
TZOFFSETTO:+0200
TZNAME:CEST
DTSTART:20240331T010000
END:DAYLIGHT
BEGIN:STANDARD
TZOFFSETFROM:+0200
TZOFFSETTO:+0100
TZNAME:CET
DTSTART:20241027T010000
END:STANDARD
END:VTIMEZONE
BEGIN:VEVENT
DTSTART;TZID=Europe/Amsterdam:20240204T100000
DTEND;TZID=Europe/Amsterdam:20240204T130000
DTSTAMP:20260421T214540
CREATED:20240116T101529Z
LAST-MODIFIED:20240116T101529Z
UID:2648-1707040800-1707051600@www.sterrenland.com
SUMMARY:Einde aan stress met Qigong
DESCRIPTION:Voel je de dagelijkse druk toenemen? Ben je op zoek naar een gezonde en duurzame manier om stress te verminderen en innerlijke rust te vinden? Dan is deze workshop precies wat je nodig hebt! \n\n\n\n\nLeer technieken om stress te verminderen en veerkracht op te bouwen.\n\n\n\nErvaar de helende kracht van Qigong door praktische sessies.\n\n\n\nOntdek de wijsheid van Traditionele Chinese Geneeskunde voor een holistische benadering van welzijn.\n\n\n\nMaak deel uit van een ondersteunende gemeenschap van gelijkgestemde individuen\n\n\n\n\nMeer info: https:// frankheininga.nl
URL:https://www.sterrenland.com/agenda/einde-aan-stress-met-qigong
END:VEVENT
BEGIN:VEVENT
DTSTART;TZID=Europe/Amsterdam:20240216T100000
DTEND;TZID=Europe/Amsterdam:20240216T120000
DTSTAMP:20260421T214540
CREATED:20240209T174756Z
LAST-MODIFIED:20240209T174756Z
UID:2653-1708077600-1708084800@www.sterrenland.com
SUMMARY:Haken enzo
DESCRIPTION:Deze vrijdag is de Tuin voor Ontmoeting en Inspiratie van Sterrenland geopend voor ontmoeting\, voor gezelligheid\, voor genieten van de beginnende lente op de tuin etc. Ook kun je inspiratie opdoen over haken. Wat heb jij aan leuke tips? Wat zijn jouw vragen? Wat heb jij ooit gemaakt en kan anderen inspireren? Welke materialen gebruik je bij het haken? Breng je haakwerkje mee of kom luisteren wat anderen er over vertellen.
URL:https://www.sterrenland.com/agenda/haken-enzo
END:VEVENT
BEGIN:VEVENT
DTSTART;TZID=Europe/Amsterdam:20240223T100000
DTEND;TZID=Europe/Amsterdam:20240223T120000
DTSTAMP:20260421T214540
CREATED:20231116T105536Z
LAST-MODIFIED:20240209T175728Z
UID:2615-1708682400-1708689600@www.sterrenland.com
SUMMARY:Open Tuin voor Ontmoeting en Inspiratie/ Tuingroep
DESCRIPTION:Op vrijdag is de tuin van Sterrenland open voor een kopje thee\, koffie met wat lekkers. Elkaar ontmoeten en inspireren in de tuin of het Sterrencafé. Ook worden er steeds laagdrempelige doe of creatieve activiteiten aangeboden. \n\n\n\nVandaag gaat de tuingroep weer aan de slag. Welkom om mee te doen. Als vaste vrijwilliger\, maar ook om zo nu en dan te helpen en te genieten van het buiten zijn. Meer info of aanmelden bij Tom: info@sterrenland.com
URL:https://www.sterrenland.com/agenda/open-tuin-voor-ontmoeting-en-inspiratie
END:VEVENT
BEGIN:VEVENT
DTSTART;TZID=Europe/Amsterdam:20240228T093000
DTEND;TZID=Europe/Amsterdam:20240228T120000
DTSTAMP:20260421T214540
CREATED:20240209T181314Z
LAST-MODIFIED:20240209T181314Z
UID:2663-1709112600-1709121600@www.sterrenland.com
SUMMARY:Do-In yoga met Monique
DESCRIPTION:Do-In yoga is geschikt voor iedereen die graag energiek en gezond wil blijven. Do-In is een ontspannen bewegingsvorm met eenvoudige oefeningen zonder dat je ingewikkelde houdingen hoeft aan te nemen. Het gaat bij Do-In yoga om bewust en met aandacht te bewegen met zorg voor jezelf. Info: Monique Collee www.collee.eu Elke woensdagochtend 2 lestijden 9.30-10.30 en 11.00-12.00u
URL:https://www.sterrenland.com/agenda/do-in-yoga-met-monique-14
END:VEVENT
END:VCALENDAR