BEGIN:VCALENDAR
VERSION:2.0
PRODID:-//Sterrenland - ECPv6.3.5//NONSGML v1.0//EN
CALSCALE:GREGORIAN
METHOD:PUBLISH
X-ORIGINAL-URL:https://www.sterrenland.com
X-WR-CALDESC:Evenementen voor Sterrenland
REFRESH-INTERVAL;VALUE=DURATION:PT1H
X-Robots-Tag:noindex
X-PUBLISHED-TTL:PT1H
BEGIN:VTIMEZONE
TZID:Europe/Amsterdam
BEGIN:DAYLIGHT
TZOFFSETFROM:+0100
TZOFFSETTO:+0200
TZNAME:CEST
DTSTART:20260329T010000
END:DAYLIGHT
BEGIN:STANDARD
TZOFFSETFROM:+0200
TZOFFSETTO:+0100
TZNAME:CET
DTSTART:20261025T010000
END:STANDARD
END:VTIMEZONE
BEGIN:VEVENT
DTSTART;TZID=Europe/Amsterdam:20260327T100000
DTEND;TZID=Europe/Amsterdam:20260327T120000
DTSTAMP:20260423T125520
CREATED:20260205T172500Z
LAST-MODIFIED:20260205T172501Z
UID:2984-1774605600-1774612800@www.sterrenland.com
SUMMARY:Tuin voor Ontmoeting en Inspiratie/ Healing
DESCRIPTION:Op vrijdag is de tuin van Sterrenland open voor een kopje thee\, koffie met wat lekkers. Elkaar ontmoeten en inspireren in de tuin of in het Sterrencafé.  \n\n\n\n \n\n\n\nVandaag zijn we er voor elkaar. Het is een ochtend vol aandacht voor elkaar\, voor een luisterend oor\, voor een liefdevolle aanraking\, net waar jij behoefte aan hebt en wat jij vandaag te geven hebt. Healing is daar waar mensen liefdevol met elkaar aanwezig zijn.  \n\n\n\nJe kan altijd een keer uitproberen en zien of het wat voor jou is. Of vraag meer info bij Toos. 0571 273212 of toos.rubbens@sterrenland.com \n\n\n\nIedere vrijdag heeft een eigen focus: 1e vrijdag  van de maand Terrein\, 2e vrijdag Open Atelier\, 3e vrijdag Tuin\, 4e vrijdag Healing. Je kan steeds bekijken of je hier aan meedoet\, aan het werk gaat of liever op de tuin bent en geniet van de rijkdom van Sterrenland. Van 10 tot 12 uur. \n\n\n\nVoor wie dat wil kan ook tot 14.30u blijven. Wel eigen lunch meebrengen. Voor koffie en thee wordt gezorgd. \n\n\n\nJe kan je aanmelden als vaste vrijwilliger\, of je kan meedoen met de terrein meewerkdagen\, maar ook om zo nu en dan te helpen. Of gewoon een keertje proeven\, allemaal welkom. Meer info of aanmelden bij Tom: info@sterrenland.com of 0571 273212
URL:https://www.sterrenland.com/agenda/tuin-voor-ontmoeting-en-inspiratie-healing-2
END:VEVENT
END:VCALENDAR