BEGIN:VCALENDAR
VERSION:2.0
PRODID:-//Sterrenland - ECPv6.3.5//NONSGML v1.0//EN
CALSCALE:GREGORIAN
METHOD:PUBLISH
X-ORIGINAL-URL:https://www.sterrenland.com
X-WR-CALDESC:Evenementen voor Sterrenland
REFRESH-INTERVAL;VALUE=DURATION:PT1H
X-Robots-Tag:noindex
X-PUBLISHED-TTL:PT1H
BEGIN:VTIMEZONE
TZID:Europe/Amsterdam
BEGIN:DAYLIGHT
TZOFFSETFROM:+0100
TZOFFSETTO:+0200
TZNAME:CEST
DTSTART:20260329T010000
END:DAYLIGHT
BEGIN:STANDARD
TZOFFSETFROM:+0200
TZOFFSETTO:+0100
TZNAME:CET
DTSTART:20261025T010000
END:STANDARD
END:VTIMEZONE
BEGIN:VEVENT
DTSTART;TZID=Europe/Amsterdam:20260314T140000
DTEND;TZID=Europe/Amsterdam:20260314T170000
DTSTAMP:20260423T125537
CREATED:20260107T171829Z
LAST-MODIFIED:20260307T173702Z
UID:2958-1773496800-1773507600@www.sterrenland.com
SUMMARY:Lentefeest
DESCRIPTION:De lente komt eraan! Groeien\, ontluiken\, openbloeien\, meer vitaliteit\, zaaien\, planten vol verwachting naar het nieuwe groeiseizoen……Kom je mee vieren op het Lentefeest? \n\n\n\nWe beginnen om 14.00u met een ritueel om de lente te vieren. Met elkaar even bewust stil staan bij wat de natuur in de lente brengt en wat we in ons leven energie willen geven zodat het kan groeien en bloeien. \n\n\n\nHierna gaan we het land op om uitjes te poten. We maken lentesoep boven het vuur. De lente gaan we vorm geven in een natuurmandala ( met takjes\, bloemen\, zaden\, verf etc). En bij het vuur zingen\, dansen\, niks doen\, praten\, stil zijn\, alles is mogelijk. \n\n\n\nVan harte welkom!!! Graag van tevoren opgeven als je komt. info@sterrenland.com                                 Kosten volwassenen € 10\,- kinderen € 7\,50
URL:https://www.sterrenland.com/agenda/lentefeest-4
END:VEVENT
END:VCALENDAR