BEGIN:VCALENDAR
VERSION:2.0
PRODID:-//Sterrenland - ECPv6.3.5//NONSGML v1.0//EN
CALSCALE:GREGORIAN
METHOD:PUBLISH
X-ORIGINAL-URL:https://www.sterrenland.com
X-WR-CALDESC:Evenementen voor Sterrenland
REFRESH-INTERVAL;VALUE=DURATION:PT1H
X-Robots-Tag:noindex
X-PUBLISHED-TTL:PT1H
BEGIN:VTIMEZONE
TZID:Europe/Amsterdam
BEGIN:DAYLIGHT
TZOFFSETFROM:+0100
TZOFFSETTO:+0200
TZNAME:CEST
DTSTART:20250330T010000
END:DAYLIGHT
BEGIN:STANDARD
TZOFFSETFROM:+0200
TZOFFSETTO:+0100
TZNAME:CET
DTSTART:20251026T010000
END:STANDARD
END:VTIMEZONE
BEGIN:VEVENT
DTSTART;TZID=Europe/Amsterdam:20251003T100000
DTEND;TZID=Europe/Amsterdam:20251003T120000
DTSTAMP:20260423T033635
CREATED:20250915T105815Z
LAST-MODIFIED:20250915T105816Z
UID:2912-1759485600-1759492800@www.sterrenland.com
SUMMARY:Tuin voor Ontmoeting en Inspiratie/ Terrein
DESCRIPTION:Op vrijdag is de tuin van Sterrenland open voor een kopje thee\, koffie met wat lekkers. Elkaar ontmoeten en inspireren in de tuin of in het Sterrencafé.  \n\n\n\nIedere vrijdag heeft een eigen focus: 1e vrijdag Terrein\, 2e vrijdag Open Atelier 3e vrijdag Tuin\, 4e vrijdag Healing. Je kan steeds bekijken of je hier aan meedoet\, aan het werk gaat of liever op de tuin bent en geniet van de rijkdom van Sterrenland. Van 10 tot 12 uur. \n\n\n\nOp elke eerste vrijdag van de maand komen we samen om het terrein van Sterrenland te onderhouden. Hagen snoeien\, Sterrenpad bijhouden\, klussen\, bijen vriendelijk landschap verzorgen\, voedselbos aanleggen etc. De handen uit de mouwen steken\, gezellig in een groep samenwerken en meewerken aan een stukje schone aarde. Doe mee en ga voldaan met oogst van het land weer naar huis. \n\n\n\nVoor wie dat wil kan ook tot 14.30u blijven. Wel eigen lunch meebrengen. Voor koffie en thee wordt gezorgd. \n\n\n\nVandaag is er weer genoeg te doen. Fysiek licht en wat zwaarder werk. Van harte welkom.  \n\n\n\nJe kunt je ook aanmelden voor de terrein/meewerkdagen om Sterrenland regelmatig te helpen onderhouden. 18 okt\, 15 nov en 13 dec 2025  info bij Tom: info@sterrenland.com of 0571 273212
URL:https://www.sterrenland.com/agenda/tuin-voor-ontmoeting-en-inspiratie-terrein-7
END:VEVENT
END:VCALENDAR