BEGIN:VCALENDAR
VERSION:2.0
PRODID:-//Sterrenland - ECPv6.3.5//NONSGML v1.0//EN
CALSCALE:GREGORIAN
METHOD:PUBLISH
X-WR-CALNAME:Sterrenland
X-ORIGINAL-URL:https://www.sterrenland.com
X-WR-CALDESC:Evenementen voor Sterrenland
REFRESH-INTERVAL;VALUE=DURATION:PT1H
X-Robots-Tag:noindex
X-PUBLISHED-TTL:PT1H
BEGIN:VTIMEZONE
TZID:Europe/Amsterdam
BEGIN:DAYLIGHT
TZOFFSETFROM:+0100
TZOFFSETTO:+0200
TZNAME:CEST
DTSTART:20250330T010000
END:DAYLIGHT
BEGIN:STANDARD
TZOFFSETFROM:+0200
TZOFFSETTO:+0100
TZNAME:CET
DTSTART:20251026T010000
END:STANDARD
END:VTIMEZONE
BEGIN:VEVENT
DTSTART;TZID=Europe/Amsterdam:20250711T100000
DTEND;TZID=Europe/Amsterdam:20250711T120000
DTSTAMP:20260423T004035
CREATED:20250514T142558Z
LAST-MODIFIED:20250514T143028Z
UID:2886-1752228000-1752235200@www.sterrenland.com
SUMMARY:Tuin voor Ontmoeting en Inspiratie/ Open Atelier
DESCRIPTION:Op vrijdag is de tuin van Sterrenland open voor een kopje thee\, koffie met wat lekkers. Elkaar ontmoeten en inspireren in de tuin of in het Sterrencafé. Ook worden er steeds laagdrempelige doe of creatieve activiteiten aangeboden. \n\n\n\nVandaag is er weer een Open Atelier. Het bevalt zo goed\, dat we besloten hebben om elke tweede vrijdag van de maand dit aan te bieden!!!  \n\n\n\nAls het lekker weer is gaan we weer buiten in de tuin creatief bezig zijn. Heerlijk in het groen\, op een rustige plek\, met fijne mensen om je heen\, vind je vast de inspiratie om jouw unieke expressie vorm te geven.
URL:https://www.sterrenland.com/agenda/tuin-voor-ontmoeting-en-inspiratie-open-atelier-8
END:VEVENT
END:VCALENDAR