BEGIN:VCALENDAR
VERSION:2.0
PRODID:-//Sterrenland - ECPv6.3.5//NONSGML v1.0//EN
CALSCALE:GREGORIAN
METHOD:PUBLISH
X-ORIGINAL-URL:https://www.sterrenland.com
X-WR-CALDESC:Evenementen voor Sterrenland
REFRESH-INTERVAL;VALUE=DURATION:PT1H
X-Robots-Tag:noindex
X-PUBLISHED-TTL:PT1H
BEGIN:VTIMEZONE
TZID:Europe/Amsterdam
BEGIN:DAYLIGHT
TZOFFSETFROM:+0100
TZOFFSETTO:+0200
TZNAME:CEST
DTSTART:20240331T010000
END:DAYLIGHT
BEGIN:STANDARD
TZOFFSETFROM:+0200
TZOFFSETTO:+0100
TZNAME:CET
DTSTART:20241027T010000
END:STANDARD
END:VTIMEZONE
BEGIN:VEVENT
DTSTART;TZID=Europe/Amsterdam:20241206T100000
DTEND;TZID=Europe/Amsterdam:20241206T120000
DTSTAMP:20260422T141141
CREATED:20241015T101019Z
LAST-MODIFIED:20241015T101020Z
UID:2850-1733479200-1733486400@www.sterrenland.com
SUMMARY:Tuin voor Ontmoeting en Inspiratie? Meewerk terreindag
DESCRIPTION:Op vrijdag is de tuin van Sterrenland open voor een kopje thee\, koffie met wat lekkers. Elkaar ontmoeten en inspireren in de tuin of het Sterrencafé. Ook worden er steeds laagdrempelige doe of creatieve activiteiten aangeboden. Van 10 tot 12 uur. \n\n\n\nOp elke eerste vrijdag van de maand komt de Terreingroep bij elkaar om het terrein van Sterrenland te onderhouden. Hagen snoeien\, Sterrenpad bijhouden\, klussen\, bijen vriendelijk landschap verzorgen\,voedselbos aanleggen etc. De handen uit de mouwen steken\, gezellig in een groep samenwerken. Doe mee en ga voldaan met oogst van het land weer naar huis. \n\n\n\nVandaag is er weer genoeg te klussen. Fysiek licht en wat zwaarder werk. Van harte welkom.  \n\n\n\nWe werken op de Meewerk Terreindag van 10 tot half 3. Meer info en opgave: info@sterrenland.com of 0571 273212
URL:https://www.sterrenland.com/agenda/tuin-voor-ontmoeting-en-inspiratie-meewerk-terreindag-4
END:VEVENT
END:VCALENDAR