BEGIN:VCALENDAR
VERSION:2.0
PRODID:-//Sterrenland - ECPv6.3.5//NONSGML v1.0//EN
CALSCALE:GREGORIAN
METHOD:PUBLISH
X-ORIGINAL-URL:https://www.sterrenland.com
X-WR-CALDESC:Evenementen voor Sterrenland
REFRESH-INTERVAL;VALUE=DURATION:PT1H
X-Robots-Tag:noindex
X-PUBLISHED-TTL:PT1H
BEGIN:VTIMEZONE
TZID:Europe/Amsterdam
BEGIN:DAYLIGHT
TZOFFSETFROM:+0100
TZOFFSETTO:+0200
TZNAME:CEST
DTSTART:20240331T010000
END:DAYLIGHT
BEGIN:STANDARD
TZOFFSETFROM:+0200
TZOFFSETTO:+0100
TZNAME:CET
DTSTART:20241027T010000
END:STANDARD
END:VTIMEZONE
BEGIN:VEVENT
DTSTART;TZID=Europe/Amsterdam:20241122T100000
DTEND;TZID=Europe/Amsterdam:20241122T120000
DTSTAMP:20260422T113251
CREATED:20241015T095516Z
LAST-MODIFIED:20241015T095518Z
UID:2844-1732269600-1732276800@www.sterrenland.com
SUMMARY:Tuin voor Ontmoeting en Inspiratie.Klankschalen meditatie
DESCRIPTION:Op vrijdag is de tuin van Sterrenland open voor een kopje thee\, koffie met wat lekkers. Elkaar ontmoeten en inspireren in de tuin of in het Sterrencafé. Ook worden er steeds laagdrempelige doe of creatieve activiteiten aangeboden. \n\n\n\nVandaag biedt Rianne van der Put een klankmeditatie aan. Doe gemakkelijk zittende kleding aan ( zonder knopen en ritsen) en doe warme sokken aan. Tijdens de meditatie ( ongeveer 45 min) neem je een ontspannen houding aan. Je kan liggen op een yogamatje of zitten. De klanken nemen je mee en brengen diepe ontspanning. \n\n\n\nkosten: vrijwillige bijdrage
URL:https://www.sterrenland.com/agenda/tuin-voor-ontmoeting-en-inspiratie-klankschalen-meditatie
END:VEVENT
END:VCALENDAR