BEGIN:VCALENDAR
VERSION:2.0
PRODID:-//Sterrenland - ECPv6.3.5//NONSGML v1.0//EN
CALSCALE:GREGORIAN
METHOD:PUBLISH
X-WR-CALNAME:Sterrenland
X-ORIGINAL-URL:https://www.sterrenland.com
X-WR-CALDESC:Evenementen voor Sterrenland
REFRESH-INTERVAL;VALUE=DURATION:PT1H
X-Robots-Tag:noindex
X-PUBLISHED-TTL:PT1H
BEGIN:VTIMEZONE
TZID:Europe/Amsterdam
BEGIN:DAYLIGHT
TZOFFSETFROM:+0100
TZOFFSETTO:+0200
TZNAME:CEST
DTSTART:20240331T010000
END:DAYLIGHT
BEGIN:STANDARD
TZOFFSETFROM:+0200
TZOFFSETTO:+0100
TZNAME:CET
DTSTART:20241027T010000
END:STANDARD
END:VTIMEZONE
BEGIN:VEVENT
DTSTART;TZID=Europe/Amsterdam:20241025T100000
DTEND;TZID=Europe/Amsterdam:20241025T120000
DTSTAMP:20260422T101009
CREATED:20241008T173900Z
LAST-MODIFIED:20241008T173900Z
UID:2841-1729850400-1729857600@www.sterrenland.com
SUMMARY:Tuin voor Ontmoeting en Inspiratie/ DAO healing
DESCRIPTION:Ervaar de zachte maar sterke kracht van Dao healing. Jose Starmans neemt ons mee. Je neemt een ontspannen houding aan en door de verbinding met de Leegte ( DAO)  kan de heling plaats vinden.
URL:https://www.sterrenland.com/agenda/tuin-voor-ontmoeting-en-inspiratie-dao-healing
END:VEVENT
END:VCALENDAR