BEGIN:VCALENDAR
VERSION:2.0
PRODID:-//Sterrenland - ECPv6.3.5//NONSGML v1.0//EN
CALSCALE:GREGORIAN
METHOD:PUBLISH
X-ORIGINAL-URL:https://www.sterrenland.com
X-WR-CALDESC:Evenementen voor Sterrenland
REFRESH-INTERVAL;VALUE=DURATION:PT1H
X-Robots-Tag:noindex
X-PUBLISHED-TTL:PT1H
BEGIN:VTIMEZONE
TZID:Europe/Amsterdam
BEGIN:DAYLIGHT
TZOFFSETFROM:+0100
TZOFFSETTO:+0200
TZNAME:CEST
DTSTART:20240331T010000
END:DAYLIGHT
BEGIN:STANDARD
TZOFFSETFROM:+0200
TZOFFSETTO:+0100
TZNAME:CET
DTSTART:20241027T010000
END:STANDARD
END:VTIMEZONE
BEGIN:VEVENT
DTSTART;TZID=Europe/Amsterdam:20240920T100000
DTEND;TZID=Europe/Amsterdam:20240920T120000
DTSTAMP:20260422T084431
CREATED:20240723T100311Z
LAST-MODIFIED:20240723T102639Z
UID:2815-1726826400-1726833600@www.sterrenland.com
SUMMARY:Tuin voor Ontmoeting en Inspiratie/ Jewel healing met Elisa
DESCRIPTION:Op vrijdag is de tuin van Sterrenland open voor een kopje thee\, koffie met wat lekkers. Elkaar ontmoeten en inspireren in de tuin of in het Sterrencafé. Ook worden er steeds laagdrempelige doe of creatieve activiteiten aangeboden. \n\n\n\nVandaag biedt Elisa een groepshealing aan om je energiesysteem te versterken. Na de koffie/thee gaan we in De Kleine Beer in de groepsruimte en kan je heerlijk op een deken liggen om de Jewel energy te ontvangen. Kussentjes zijn aanwezig\, je kunt zelf een doek of slaapzak meebrengen om onder te liggen.
URL:https://www.sterrenland.com/agenda/tuin-voor-ontmoeting-en-inspiratie-jewel-healing-met-elisa
END:VEVENT
END:VCALENDAR