BEGIN:VCALENDAR
VERSION:2.0
PRODID:-//Sterrenland - ECPv6.3.5//NONSGML v1.0//EN
CALSCALE:GREGORIAN
METHOD:PUBLISH
X-WR-CALNAME:Sterrenland
X-ORIGINAL-URL:https://www.sterrenland.com
X-WR-CALDESC:Evenementen voor Sterrenland
REFRESH-INTERVAL;VALUE=DURATION:PT1H
X-Robots-Tag:noindex
X-PUBLISHED-TTL:PT1H
BEGIN:VTIMEZONE
TZID:Europe/Amsterdam
BEGIN:DAYLIGHT
TZOFFSETFROM:+0100
TZOFFSETTO:+0200
TZNAME:CEST
DTSTART:20240331T010000
END:DAYLIGHT
BEGIN:STANDARD
TZOFFSETFROM:+0200
TZOFFSETTO:+0100
TZNAME:CET
DTSTART:20241027T010000
END:STANDARD
END:VTIMEZONE
BEGIN:VEVENT
DTSTART;TZID=Europe/Amsterdam:20240830T100000
DTEND;TZID=Europe/Amsterdam:20240830T120000
DTSTAMP:20260422T071427
CREATED:20240722T180507Z
LAST-MODIFIED:20240722T180630Z
UID:2804-1725012000-1725019200@www.sterrenland.com
SUMMARY:Tuin voor Ontmoeting en Inspiratie/ Introductie les yoga met Jose Starmans
DESCRIPTION:Op vrijdag is de tuin van Sterrenland open voor een kopje thee\, koffie met wat lekkers. Elkaar ontmoeten en inspireren in de tuin of in het Sterrencafé. Ook worden er steeds laagdrempelige doe of creatieve activiteiten aangeboden. \n\n\n\nJose geeft vandaag de mogelijkheid kennis te maken met Dru yoga. Zij geeft op Sterrenland elke twee weken op dinsdagavond een intensieve Dru yogales. Meer info: www. praktijkcare.nl \n\n\n\nE-mail: jose@praktijkcare.nl \n\n\n\nTelefoon: 06-15040631
URL:https://www.sterrenland.com/agenda/tuin-voor-ontmoeting-en-inspiratie-introductie-les-yoga-met-jose-starmans
END:VEVENT
END:VCALENDAR