BEGIN:VCALENDAR
VERSION:2.0
PRODID:-//Sterrenland - ECPv6.3.5//NONSGML v1.0//EN
CALSCALE:GREGORIAN
METHOD:PUBLISH
X-ORIGINAL-URL:https://www.sterrenland.com
X-WR-CALDESC:Evenementen voor Sterrenland
REFRESH-INTERVAL;VALUE=DURATION:PT1H
X-Robots-Tag:noindex
X-PUBLISHED-TTL:PT1H
BEGIN:VTIMEZONE
TZID:Europe/Amsterdam
BEGIN:DAYLIGHT
TZOFFSETFROM:+0100
TZOFFSETTO:+0200
TZNAME:CEST
DTSTART:20240331T010000
END:DAYLIGHT
BEGIN:STANDARD
TZOFFSETFROM:+0200
TZOFFSETTO:+0100
TZNAME:CET
DTSTART:20241027T010000
END:STANDARD
END:VTIMEZONE
BEGIN:VEVENT
DTSTART;TZID=Europe/Amsterdam:20240726T100000
DTEND;TZID=Europe/Amsterdam:20240726T120000
DTSTAMP:20260422T054612
CREATED:20240722T150953Z
LAST-MODIFIED:20240722T151231Z
UID:2790-1721988000-1721995200@www.sterrenland.com
SUMMARY:Tuin voor Ontmoeting en Inspiratie/ natuurbeleving met Toos
DESCRIPTION:Niks doen\, je hoofd leeg maken\, je voelsprieten open en je hart openen voor de schoonheid en wijsheid van al wat groeit en bloeit. De prachtige tuin op Sterrenland biedt zoveel plekjes\, zoveel uitnodiging om in alle rust bij jezelf te komen en te voelen. Toos neemt je mee op het avontuur van de natuur.  \n\n\n\nWe beginnen om 10.00u met koffie/thee en wat lekkers. Het duurt tot 12.00u. kosten: vrijwillige bijdrage ( richtbedrag € 15\,-)
URL:https://www.sterrenland.com/agenda/tuin-voor-ontmoeting-en-inspiratie-natuurbeleving-met-toos
END:VEVENT
END:VCALENDAR