BEGIN:VCALENDAR
VERSION:2.0
PRODID:-//Sterrenland - ECPv6.3.5//NONSGML v1.0//EN
CALSCALE:GREGORIAN
METHOD:PUBLISH
X-ORIGINAL-URL:https://www.sterrenland.com
X-WR-CALDESC:Evenementen voor Sterrenland
REFRESH-INTERVAL;VALUE=DURATION:PT1H
X-Robots-Tag:noindex
X-PUBLISHED-TTL:PT1H
BEGIN:VTIMEZONE
TZID:Europe/Amsterdam
BEGIN:DAYLIGHT
TZOFFSETFROM:+0100
TZOFFSETTO:+0200
TZNAME:CEST
DTSTART:20240331T010000
END:DAYLIGHT
BEGIN:STANDARD
TZOFFSETFROM:+0200
TZOFFSETTO:+0100
TZNAME:CET
DTSTART:20241027T010000
END:STANDARD
END:VTIMEZONE
BEGIN:VEVENT
DTSTART;TZID=Europe/Amsterdam:20240622T100000
DTEND;TZID=Europe/Amsterdam:20240622T143000
DTSTAMP:20260422T035717
CREATED:20240429T192358Z
LAST-MODIFIED:20240429T192358Z
UID:2770-1719050400-1719066600@www.sterrenland.com
SUMMARY:Meewerk Terreingroep
DESCRIPTION:Ook zaterdag  22 juni \n\n\n\nEr is genoeg te doen en omdat sommigen van jullie hebben aangegeven niet op vrijdag te kunnen\, willen we ook vaker op zaterdag  dus nu op 22 juni  een extra terrein-dag houden. Deze dagen zijn  ook van 10u tot 14.30u. \n\n\n\nWat is er te doen? \n\n\n\nEr is  fysiek licht werk en wat zwaarder werk\, we kijken met elkaar wie wat wil of kan doen. \n\n\n\nEr is veel te maaien. Het Sterrenpad te verbeteren\, het terras renoveren etc.
URL:https://www.sterrenland.com/agenda/meewerk-terreingroep
END:VEVENT
END:VCALENDAR