BEGIN:VCALENDAR
VERSION:2.0
PRODID:-//Sterrenland - ECPv6.3.5//NONSGML v1.0//EN
CALSCALE:GREGORIAN
METHOD:PUBLISH
X-ORIGINAL-URL:https://www.sterrenland.com
X-WR-CALDESC:Evenementen voor Sterrenland
REFRESH-INTERVAL;VALUE=DURATION:PT1H
X-Robots-Tag:noindex
X-PUBLISHED-TTL:PT1H
BEGIN:VTIMEZONE
TZID:Europe/Amsterdam
BEGIN:DAYLIGHT
TZOFFSETFROM:+0100
TZOFFSETTO:+0200
TZNAME:CEST
DTSTART:20240331T010000
END:DAYLIGHT
BEGIN:STANDARD
TZOFFSETFROM:+0200
TZOFFSETTO:+0100
TZNAME:CET
DTSTART:20241027T010000
END:STANDARD
END:VTIMEZONE
BEGIN:VEVENT
DTSTART;TZID=Europe/Amsterdam:20240621T100000
DTEND;TZID=Europe/Amsterdam:20240621T120000
DTSTAMP:20260422T040957
CREATED:20240430T102727Z
LAST-MODIFIED:20240610T095418Z
UID:2772-1718964000-1718971200@www.sterrenland.com
SUMMARY:Vier de Zomer
DESCRIPTION:In de Tuin voor Ontmoeting en Inspiratie vieren we de zomer. Genieten van de Tuin\, zing zing zing. Marieke Maas Bink neemt haar gitaar en leuke liedjes om te zingen mee. We zorgen ook voor wat lekkers te eten en te drinken. Van harte welkom\, we beginnen om 10.00u. Vrijwillige bijdrage.
URL:https://www.sterrenland.com/agenda/vier-de-zomer
END:VEVENT
END:VCALENDAR