BEGIN:VCALENDAR
VERSION:2.0
PRODID:-//Sterrenland - ECPv6.3.5//NONSGML v1.0//EN
CALSCALE:GREGORIAN
METHOD:PUBLISH
X-ORIGINAL-URL:https://www.sterrenland.com
X-WR-CALDESC:Evenementen voor Sterrenland
REFRESH-INTERVAL;VALUE=DURATION:PT1H
X-Robots-Tag:noindex
X-PUBLISHED-TTL:PT1H
BEGIN:VTIMEZONE
TZID:Europe/Amsterdam
BEGIN:DAYLIGHT
TZOFFSETFROM:+0100
TZOFFSETTO:+0200
TZNAME:CEST
DTSTART:20240331T010000
END:DAYLIGHT
BEGIN:STANDARD
TZOFFSETFROM:+0200
TZOFFSETTO:+0100
TZNAME:CET
DTSTART:20241027T010000
END:STANDARD
END:VTIMEZONE
BEGIN:VEVENT
DTSTART;TZID=Europe/Amsterdam:20240614T100000
DTEND;TZID=Europe/Amsterdam:20240614T120000
DTSTAMP:20260422T035739
CREATED:20240429T153921Z
LAST-MODIFIED:20240429T153921Z
UID:2766-1718359200-1718366400@www.sterrenland.com
SUMMARY:Open Atelier
DESCRIPTION:Op vrijdag is de tuin van Sterrenland open voor een kopje thee\, koffie met wat lekkers. Elkaar ontmoeten en inspireren in de tuin of het Sterrencafé. Ook worden er steeds laagdrempelige doe of creatieve activiteiten aangeboden. \n\n\n\nVandaag is er weer een Open Atelier. Het bevalt zo goed\, dat we besloten hebben om elke tweede vrijdag van de maand dit aan te bieden!!! Breng je creatieve materialen mee en kijk wat je inspiratie is om te maken. Bij lekker weer gaan we buiten schilderen of tekenen. Als je een duwtje nodig hebt of even een tip dan is Iedje daar om je op weg te helpen. Gezellig met elkaar creatief bezig zijn. Welkom om mee te doen.
URL:https://www.sterrenland.com/agenda/open-atelier-4
END:VEVENT
END:VCALENDAR