BEGIN:VCALENDAR
VERSION:2.0
PRODID:-//Sterrenland - ECPv6.3.5//NONSGML v1.0//EN
CALSCALE:GREGORIAN
METHOD:PUBLISH
X-ORIGINAL-URL:https://www.sterrenland.com
X-WR-CALDESC:Evenementen voor Sterrenland
REFRESH-INTERVAL;VALUE=DURATION:PT1H
X-Robots-Tag:noindex
X-PUBLISHED-TTL:PT1H
BEGIN:VTIMEZONE
TZID:Europe/Amsterdam
BEGIN:DAYLIGHT
TZOFFSETFROM:+0100
TZOFFSETTO:+0200
TZNAME:CEST
DTSTART:20240331T010000
END:DAYLIGHT
BEGIN:STANDARD
TZOFFSETFROM:+0200
TZOFFSETTO:+0100
TZNAME:CET
DTSTART:20241027T010000
END:STANDARD
END:VTIMEZONE
BEGIN:VEVENT
DTSTART;TZID=Europe/Amsterdam:20240301T100000
DTEND;TZID=Europe/Amsterdam:20240301T120000
DTSTAMP:20260421T214531
CREATED:20231116T110358Z
LAST-MODIFIED:20240209T175230Z
UID:2619-1709287200-1709294400@www.sterrenland.com
SUMMARY:Open Tuin voor Ontmoeting en Inspiratie-Terreingroep
DESCRIPTION:Op vrijdag is de tuin van Sterrenland open voor een kopje thee\, koffie met wat lekkers. Elkaar ontmoeten en inspireren in de tuin of het Sterrencafé. Ook worden er steeds laagdrempelige doe of creatieve activiteiten aangeboden.  \n\n\n\nOp elke eerste vrijdag van de maand komt de Terreingroep bij elkaar om het terrein van Sterrenland te onderhouden. Hagen snoeien\, Sterrenpad bijhouden\, klussen\, voedselbos aanleggen etc. De handen uit de mouwen steken\, gezellig in een groep samenwerken \n\n\n\nDeze keer gaan we de Sterrentuin en kindertuintjes voor de Vrije School vormgeven en de tunnelbogen opruimen. We werken van half 10 tot 2 uur. Koffie\, thee en heerlijke soep. Meer info en opgave: info@sterrenland.com of 0571 273212
URL:https://www.sterrenland.com/agenda/open-tuin-voor-ontmoeting-en-inspiratie-terreingroep
END:VEVENT
END:VCALENDAR