BEGIN:VCALENDAR
VERSION:2.0
PRODID:-//Sterrenland - ECPv6.3.5//NONSGML v1.0//EN
CALSCALE:GREGORIAN
METHOD:PUBLISH
X-WR-CALNAME:Sterrenland
X-ORIGINAL-URL:https://www.sterrenland.com
X-WR-CALDESC:Evenementen voor Sterrenland
REFRESH-INTERVAL;VALUE=DURATION:PT1H
X-Robots-Tag:noindex
X-PUBLISHED-TTL:PT1H
BEGIN:VTIMEZONE
TZID:Europe/Amsterdam
BEGIN:DAYLIGHT
TZOFFSETFROM:+0100
TZOFFSETTO:+0200
TZNAME:CEST
DTSTART:20240331T010000
END:DAYLIGHT
BEGIN:STANDARD
TZOFFSETFROM:+0200
TZOFFSETTO:+0100
TZNAME:CET
DTSTART:20241027T010000
END:STANDARD
END:VTIMEZONE
BEGIN:VEVENT
DTSTART;TZID=Europe/Amsterdam:20240112T100000
DTEND;TZID=Europe/Amsterdam:20240112T120000
DTSTAMP:20260421T213525
CREATED:20231116T105407Z
LAST-MODIFIED:20231116T105407Z
UID:2613-1705053600-1705060800@www.sterrenland.com
SUMMARY:Tuin open voor Ontmoeting en Inspiratie
DESCRIPTION:Op vrijdag is de tuin van Sterrenland open voor een kopje thee\, koffie met wat lekkers. Elkaar ontmoeten en inspireren in de tuin of het Sterrencafé. Ook worden er steeds laagdrempelige doe of creatieve activiteiten aangeboden. Vandaag mogelijkheid tot lopen van het labyrint met je nieuwjaarswens olv Toos Rubbens. Vrijwillige bijdrage.
URL:https://www.sterrenland.com/agenda/tuin-open-voor-ontmoeting-en-inspiratie
END:VEVENT
BEGIN:VEVENT
DTSTART;TZID=Europe/Amsterdam:20240112T103000
DTEND;TZID=Europe/Amsterdam:20240112T120000
DTSTAMP:20260421T213525
CREATED:20240104T100043Z
LAST-MODIFIED:20240104T100044Z
UID:2635-1705055400-1705060800@www.sterrenland.com
SUMMARY:Labyrint lopen
DESCRIPTION:Labyrint lopen brengt je bij de kern.  Je tocht door het labyrint kan je inzichten geven over je levenspad\, antwoorden geven op vragen. In drukke tijden weer bij je centrum brengen.  Vandaag lopen we met onze wens voor het nieuwe jaar. Waar wil jij je op richten dit jaar?  \n\n\n\nHet labyrint lopen is een onderdeel van de Open tuin voor Ontmoeting en Inspiratie van Sterrenland die we elke vrijdag houden. Je bent vanaf 10.00u welkom voor koffie en thee. Om 10.45u verzamelen we bij de schuur  en lopen we met elkaar naar het labyrint op Morgenland. We lopen bij elke weergesteldheid dus denk aan goede kleding. Vrijwillige bijdrage ( richtbedrag € 15\,-)  Meer informatie bij Toos Rubbens toos.rubbens@sterrenland.com
URL:https://www.sterrenland.com/agenda/labyrint-lopen-3
END:VEVENT
END:VCALENDAR