BEGIN:VCALENDAR
VERSION:2.0
PRODID:-//Sterrenland - ECPv6.3.5//NONSGML v1.0//EN
CALSCALE:GREGORIAN
METHOD:PUBLISH
X-WR-CALNAME:Sterrenland
X-ORIGINAL-URL:https://www.sterrenland.com
X-WR-CALDESC:Evenementen voor Sterrenland
REFRESH-INTERVAL;VALUE=DURATION:PT1H
X-Robots-Tag:noindex
X-PUBLISHED-TTL:PT1H
BEGIN:VTIMEZONE
TZID:Europe/Amsterdam
BEGIN:DAYLIGHT
TZOFFSETFROM:+0100
TZOFFSETTO:+0200
TZNAME:CEST
DTSTART:20230326T010000
END:DAYLIGHT
BEGIN:STANDARD
TZOFFSETFROM:+0200
TZOFFSETTO:+0100
TZNAME:CET
DTSTART:20231029T010000
END:STANDARD
END:VTIMEZONE
BEGIN:VEVENT
DTSTART;TZID=Europe/Amsterdam:20231027T170000
DTEND;TZID=Europe/Amsterdam:20231027T220000
DTSTAMP:20260421T151931
CREATED:20231024T181237Z
LAST-MODIFIED:20231024T181237Z
UID:2592-1698426000-1698444000@www.sterrenland.com
SUMMARY:Samhain ceremonie
DESCRIPTION:Rondom Samhain staan we stil bij overleden dierbaren en maken we contact met onze voorouders voor inzicht en heling. Een cereoniele viering van het leven in het licht van de dood aan de hand van sjamanistische rituelen en gebruiken. Welkom! \n\n\n\nMeer info en aanmelden kan bij Stefanie Kraanen via: \n\n\n\nwww.retribe.nl/ceremonie\, stefaniekraanen@gmail.com\, 0615673124
URL:https://www.sterrenland.com/agenda/samhain-ceremonie
END:VEVENT
END:VCALENDAR