BEGIN:VCALENDAR
VERSION:2.0
PRODID:-//Sterrenland - ECPv6.3.5//NONSGML v1.0//EN
CALSCALE:GREGORIAN
METHOD:PUBLISH
X-WR-CALNAME:Sterrenland
X-ORIGINAL-URL:https://www.sterrenland.com
X-WR-CALDESC:Evenementen voor Sterrenland
REFRESH-INTERVAL;VALUE=DURATION:PT1H
X-Robots-Tag:noindex
X-PUBLISHED-TTL:PT1H
BEGIN:VTIMEZONE
TZID:Europe/Amsterdam
BEGIN:DAYLIGHT
TZOFFSETFROM:+0100
TZOFFSETTO:+0200
TZNAME:CEST
DTSTART:20230326T010000
END:DAYLIGHT
BEGIN:STANDARD
TZOFFSETFROM:+0200
TZOFFSETTO:+0100
TZNAME:CET
DTSTART:20231029T010000
END:STANDARD
END:VTIMEZONE
BEGIN:VEVENT
DTSTART;TZID=Europe/Amsterdam:20231015T100000
DTEND;TZID=Europe/Amsterdam:20231015T123000
DTSTAMP:20260421T151929
CREATED:20230906T131925Z
LAST-MODIFIED:20230906T131926Z
UID:2580-1697364000-1697373000@www.sterrenland.com
SUMMARY:Six healing sounds
DESCRIPTION:Deze workshop biedt jou de mogelijkheid om een natuurlijke zelfhulpmethode te ontdekken voor het in balans brengen van emoties en interne organen. We gebruiken de eeuwenoude wijsheid van de 5 elementen als basis voor transformatie en combineren dit met kleuren\, klanken\, en ademhalingstechnieken voor een inspirerende ervaring. \n\n\n\nDe filosofie van de 5 elementen\, samen met Yin en Yang\, vormt de essentie van Chinese healing systemen\, Martial Arts en Feng Shui. Bovendien is deze workshop toegankelijk en niet al te inspannend\, waardoor je direct merkbaar resultaat zult ervaren. Het is de perfecte gelegenheid om emotionele balans te bereiken en om het natuurlijk herstellend vermogen van je lichaam te verbeteren. \n\n\n\nOns doel is om jou deze krachtige technieken op een duidelijke manier aan te leren\, zodat je ze na de workshop moeiteloos in je dagelijks leven kunt integreren. Mis deze kans niet om innerlijke harmonie te vinden en schrijf je vandaag nog in! \n\n\n\nFrank Heininga in samenwerking met de gerenommeerde acupuncturist Carla Kuster  \n\n\n\nMeer info: https://frankheininga.nl
URL:https://www.sterrenland.com/agenda/six-healing-sounds
END:VEVENT
END:VCALENDAR