BEGIN:VCALENDAR
VERSION:2.0
PRODID:-//Sterrenland - ECPv6.3.5//NONSGML v1.0//EN
CALSCALE:GREGORIAN
METHOD:PUBLISH
X-WR-CALNAME:Sterrenland
X-ORIGINAL-URL:https://www.sterrenland.com
X-WR-CALDESC:Evenementen voor Sterrenland
REFRESH-INTERVAL;VALUE=DURATION:PT1H
X-Robots-Tag:noindex
X-PUBLISHED-TTL:PT1H
BEGIN:VTIMEZONE
TZID:Europe/Amsterdam
BEGIN:DAYLIGHT
TZOFFSETFROM:+0100
TZOFFSETTO:+0200
TZNAME:CEST
DTSTART:20230326T010000
END:DAYLIGHT
BEGIN:STANDARD
TZOFFSETFROM:+0200
TZOFFSETTO:+0100
TZNAME:CET
DTSTART:20231029T010000
END:STANDARD
END:VTIMEZONE
BEGIN:VEVENT
DTSTART;TZID=Europe/Amsterdam:20231007T140000
DTEND;TZID=Europe/Amsterdam:20231007T170000
DTSTAMP:20260421T151937
CREATED:20230829T171123Z
LAST-MODIFIED:20230903T165008Z
UID:2577-1696687200-1696698000@www.sterrenland.com
SUMMARY:Oogstfeest
DESCRIPTION:Welkom op het oogstfeest van Sterrenland! Gezellig als je ook komt om de oogst van dit jaar te vieren. Vuurtje\, wat lekkers\, pompoensoep en gezellig samenzijn! Graag van tevoren even opgeven.  info@sterrenland.com of 0571 273212 Kosten: €10\,- kinderen € 7\,50
URL:https://www.sterrenland.com/agenda/oogstfeest-2
END:VEVENT
END:VCALENDAR