BEGIN:VCALENDAR
VERSION:2.0
PRODID:-//Sterrenland - ECPv6.3.5//NONSGML v1.0//EN
CALSCALE:GREGORIAN
METHOD:PUBLISH
X-WR-CALNAME:Sterrenland
X-ORIGINAL-URL:https://www.sterrenland.com
X-WR-CALDESC:Evenementen voor Sterrenland
REFRESH-INTERVAL;VALUE=DURATION:PT1H
X-Robots-Tag:noindex
X-PUBLISHED-TTL:PT1H
BEGIN:VTIMEZONE
TZID:Europe/Amsterdam
BEGIN:DAYLIGHT
TZOFFSETFROM:+0100
TZOFFSETTO:+0200
TZNAME:CEST
DTSTART:20230326T010000
END:DAYLIGHT
BEGIN:STANDARD
TZOFFSETFROM:+0200
TZOFFSETTO:+0100
TZNAME:CET
DTSTART:20231029T010000
END:STANDARD
END:VTIMEZONE
BEGIN:VEVENT
DTSTART;TZID=Europe/Amsterdam:20230923T130000
DTEND;TZID=Europe/Amsterdam:20230923T180000
DTSTAMP:20260421T135719
CREATED:20230906T202417Z
LAST-MODIFIED:20230906T202417Z
UID:2582-1695474000-1695492000@www.sterrenland.com
SUMMARY:Sjamanistische Vrouwencirkel Dankbaarheid
DESCRIPTION:Tijdens deze intieme cirkel rondom de Herstequinox (max 7 deelnemers) gaan we in ceremonie de weg naar binnen verkennen. Wat kom je daarin tegen? Gaat dat eenvoudig\, of is er nog iets wat gezien wil worden en kun je ook voor schaduwstukken een zekere mate van dankbaarheid opbrengen? De intentie is om vanuit het gevoel van dankbaarheid meer in de vertraging te zakken zodat je als vanzelf meer naar binnen kunt cirkelen om te schatgraven… \n\n\n\nWe werken in sacred space met sjamanistische trancereizen\, drum\, klank\, dans\, runemagie en opstellingenwerk. Ook zal ik ceremonieel cacao bereiden om onze harten te verzachten en ons te openen voor diepere lagen van wijsheid die worden aangereikt door dit plant medicijn.Na afloop smikkel je lekker mee van een biologische (vegan) soep met brood en smeersels. \n\n\n\nOnder begeleiding van Stefanie Kraanen \n\n\n\nPraktische infoLocatie: Sterrenland\, TwelloBijdrage: 80\,-Meenemen: kussentje/laag stoeltje om op te zitten\, flesje water\, kleur- of notitieboekje met pen/kleurtjes \n\n\n\nVoel jij de roep om hierbij te zijn? Meld je dan aan via: www.retribe.nl/ceremonie.
URL:https://www.sterrenland.com/agenda/sjamanistische-vrouwencirkel-dankbaarheid
END:VEVENT
END:VCALENDAR