BEGIN:VCALENDAR
VERSION:2.0
PRODID:-//Sterrenland - ECPv6.3.5//NONSGML v1.0//EN
CALSCALE:GREGORIAN
METHOD:PUBLISH
X-ORIGINAL-URL:https://www.sterrenland.com
X-WR-CALDESC:Evenementen voor Sterrenland
REFRESH-INTERVAL;VALUE=DURATION:PT1H
X-Robots-Tag:noindex
X-PUBLISHED-TTL:PT1H
BEGIN:VTIMEZONE
TZID:Europe/Amsterdam
BEGIN:DAYLIGHT
TZOFFSETFROM:+0100
TZOFFSETTO:+0200
TZNAME:CEST
DTSTART:20230326T010000
END:DAYLIGHT
BEGIN:STANDARD
TZOFFSETFROM:+0200
TZOFFSETTO:+0100
TZNAME:CET
DTSTART:20231029T010000
END:STANDARD
END:VTIMEZONE
BEGIN:VEVENT
DTSTART;TZID=Europe/Amsterdam:20230909T100000
DTEND;TZID=Europe/Amsterdam:20230909T190000
DTSTAMP:20260421T135802
CREATED:20230803T085852Z
LAST-MODIFIED:20230804T192656Z
UID:2555-1694253600-1694286000@www.sterrenland.com
SUMMARY:Zweethut voor vrouwen
DESCRIPTION:Op Sterrenland wordt op de prachtige natuurlijke plek Morgenland een zweethut voor vrouwen georganiseerd door Rita\, Margo en Bonita met als thema: “een nieuw begin” \n\n\n\nEen Zweethut is een ceremonie om het lichaam\, de geest en de ziel te reinigen. Het aangaan van deze ceremonie buiten in de natuur vraagt van je dat je bereid bent aan te zien en te voelen wat er is. Je open te stellen voor wat het Vuur\, de hete Stenen en het zweten in de Hut jou op dit moment te vertellen hebben. De overgave ingaan door je lichaam te laten zweten\, je geest te laten zingen en je ziel te laten spreken. Samen in de hut te komen om je te verbinden met elkaar en het grotere geheel. Het diepere weten toelaten. \n\n\n\nVoor meer informatie of vragen: stuur een email naar: info@poortnaardeziel.nl.  \n\n\n\nInschrijven en tickets via Hipsy:https://hipsy.nl/event/21648-zweethut-een-nieuw-begin
URL:https://www.sterrenland.com/agenda/zweethut
END:VEVENT
END:VCALENDAR