BEGIN:VCALENDAR
VERSION:2.0
PRODID:-//Sterrenland - ECPv6.3.5//NONSGML v1.0//EN
CALSCALE:GREGORIAN
METHOD:PUBLISH
X-ORIGINAL-URL:https://www.sterrenland.com
X-WR-CALDESC:Evenementen voor Sterrenland
REFRESH-INTERVAL;VALUE=DURATION:PT1H
X-Robots-Tag:noindex
X-PUBLISHED-TTL:PT1H
BEGIN:VTIMEZONE
TZID:Europe/Amsterdam
BEGIN:DAYLIGHT
TZOFFSETFROM:+0100
TZOFFSETTO:+0200
TZNAME:CEST
DTSTART:20230326T010000
END:DAYLIGHT
BEGIN:STANDARD
TZOFFSETFROM:+0200
TZOFFSETTO:+0100
TZNAME:CET
DTSTART:20231029T010000
END:STANDARD
END:VTIMEZONE
BEGIN:VEVENT
DTSTART;TZID=Europe/Amsterdam:20230829T190000
DTEND;TZID=Europe/Amsterdam:20230829T213000
DTSTAMP:20260421T130417
CREATED:20230803T092732Z
LAST-MODIFIED:20230803T092732Z
UID:2563-1693335600-1693344600@www.sterrenland.com
SUMMARY:Start Yoga intensief met Jose
DESCRIPTION:Elke twee weken een intensieve Dru yogales met Jose Starmans. Meer info: www. praktijkcare.nl \n\n\n\n \n\n\n\nE-mail: jose@praktijkcare.nl \n\n\n\nTelefoon: 06-15040631
URL:https://www.sterrenland.com/agenda/start-yoga-intensief-met-jose
END:VEVENT
END:VCALENDAR