BEGIN:VCALENDAR
VERSION:2.0
PRODID:-//Sterrenland - ECPv6.3.5//NONSGML v1.0//EN
CALSCALE:GREGORIAN
METHOD:PUBLISH
X-WR-CALNAME:Sterrenland
X-ORIGINAL-URL:https://www.sterrenland.com
X-WR-CALDESC:Evenementen voor Sterrenland
REFRESH-INTERVAL;VALUE=DURATION:PT1H
X-Robots-Tag:noindex
X-PUBLISHED-TTL:PT1H
BEGIN:VTIMEZONE
TZID:Europe/Amsterdam
BEGIN:DAYLIGHT
TZOFFSETFROM:+0100
TZOFFSETTO:+0200
TZNAME:CEST
DTSTART:20230326T010000
END:DAYLIGHT
BEGIN:STANDARD
TZOFFSETFROM:+0200
TZOFFSETTO:+0100
TZNAME:CET
DTSTART:20231029T010000
END:STANDARD
END:VTIMEZONE
BEGIN:VEVENT
DTSTART;TZID=Europe/Amsterdam:20230714T180000
DTEND;TZID=Europe/Amsterdam:20230714T190000
DTSTAMP:20260421T110811
CREATED:20230413T113809Z
LAST-MODIFIED:20230710T125954Z
UID:2477-1689357600-1689361200@www.sterrenland.com
SUMMARY:Dineren op de Tuin
DESCRIPTION:Dineren op de tuinOp vrijdag 16 juni\, 14 juli en 25 augustus organiseert kok Cathy van Keetmee.nl samen de tuinders van de Overkant een aantal zomer diners op de tuin. Je kunt jouw plaats aan tafel hier reserveren
URL:https://www.sterrenland.com/agenda/dineren-op-de-tuin-2
END:VEVENT
END:VCALENDAR